BEGIN:VCALENDAR
VERSION:2.0
PRODID:-//The Allamanda Garden Club of North Port, Florida - ECPv6.15.10//NONSGML v1.0//EN
CALSCALE:GREGORIAN
METHOD:PUBLISH
X-ORIGINAL-URL:https://allamandagardenclub.com
X-WR-CALDESC:Events for The Allamanda Garden Club of North Port, Florida
REFRESH-INTERVAL;VALUE=DURATION:PT1H
X-Robots-Tag:noindex
X-PUBLISHED-TTL:PT1H
BEGIN:VTIMEZONE
TZID:America/New_York
BEGIN:DAYLIGHT
TZOFFSETFROM:-0500
TZOFFSETTO:-0400
TZNAME:EDT
DTSTART:20240310T070000
END:DAYLIGHT
BEGIN:STANDARD
TZOFFSETFROM:-0400
TZOFFSETTO:-0500
TZNAME:EST
DTSTART:20241103T060000
END:STANDARD
BEGIN:DAYLIGHT
TZOFFSETFROM:-0500
TZOFFSETTO:-0400
TZNAME:EDT
DTSTART:20250309T070000
END:DAYLIGHT
BEGIN:STANDARD
TZOFFSETFROM:-0400
TZOFFSETTO:-0500
TZNAME:EST
DTSTART:20251102T060000
END:STANDARD
BEGIN:DAYLIGHT
TZOFFSETFROM:-0500
TZOFFSETTO:-0400
TZNAME:EDT
DTSTART:20260308T070000
END:DAYLIGHT
BEGIN:STANDARD
TZOFFSETFROM:-0400
TZOFFSETTO:-0500
TZNAME:EST
DTSTART:20261101T060000
END:STANDARD
END:VTIMEZONE
BEGIN:VEVENT
DTSTART;TZID=America/New_York:20250207T100000
DTEND;TZID=America/New_York:20250207T130000
DTSTAMP:20260425T114250
CREATED:20240713T202155Z
LAST-MODIFIED:20240714T221148Z
UID:3031-1738922400-1738933200@allamandagardenclub.com
SUMMARY:Palm Frond Boondoggles
DESCRIPTION:Come join us for a super fun class on weaving palm fronds also known as boondoggles.\n \nWeaving boondoggles is an old-fashioned\, traditional\, heritage craft of the southern US. Each Boondoggle can be woven from one entire palm frond of the Sabal Palm\, also known as the cabbage palm. Palm fronds have been used for centuries to create a variety of useful and decorative items. From baskets and hats to wall hangings and beach mats\, the possibilities are endless when it comes to this versatile material. We will be learning how to weave fresh palm fronds to create beautiful and unique pieces of art. With all the palm trees around us you will be able to use your new-found skills all year round. \n \nWe will join Carrie in her garden to create our boondoggles. \nPlease bring a chair\, a beverage and a snack and we can enjoy some socializing afterwards. \n                                                Cost for this workshop is $20 for members and $25 for non-members \nNo-shows or cancellations after January 31sr will not be refunded. Contact Carrie if you must cancel. \n 
URL:https://allamandagardenclub.com/events/palm-frond-boondoggles/
LOCATION:Bev Brue’s Garden\, 6420 Floral Court\, North Port\, FL\, 34287
CATEGORIES:Workshop
END:VEVENT
END:VCALENDAR