BEGIN:VCALENDAR
VERSION:2.0
PRODID:-//The Allamanda Garden Club of North Port, Florida - ECPv6.15.10//NONSGML v1.0//EN
CALSCALE:GREGORIAN
METHOD:PUBLISH
X-ORIGINAL-URL:https://allamandagardenclub.com
X-WR-CALDESC:Events for The Allamanda Garden Club of North Port, Florida
REFRESH-INTERVAL;VALUE=DURATION:PT1H
X-Robots-Tag:noindex
X-PUBLISHED-TTL:PT1H
BEGIN:VTIMEZONE
TZID:America/New_York
BEGIN:DAYLIGHT
TZOFFSETFROM:-0500
TZOFFSETTO:-0400
TZNAME:EDT
DTSTART:20240310T070000
END:DAYLIGHT
BEGIN:STANDARD
TZOFFSETFROM:-0400
TZOFFSETTO:-0500
TZNAME:EST
DTSTART:20241103T060000
END:STANDARD
BEGIN:DAYLIGHT
TZOFFSETFROM:-0500
TZOFFSETTO:-0400
TZNAME:EDT
DTSTART:20250309T070000
END:DAYLIGHT
BEGIN:STANDARD
TZOFFSETFROM:-0400
TZOFFSETTO:-0500
TZNAME:EST
DTSTART:20251102T060000
END:STANDARD
BEGIN:DAYLIGHT
TZOFFSETFROM:-0500
TZOFFSETTO:-0400
TZNAME:EDT
DTSTART:20260308T070000
END:DAYLIGHT
BEGIN:STANDARD
TZOFFSETFROM:-0400
TZOFFSETTO:-0500
TZNAME:EST
DTSTART:20261101T060000
END:STANDARD
END:VTIMEZONE
BEGIN:VEVENT
DTSTART;TZID=America/New_York:20250228T113000
DTEND;TZID=America/New_York:20250228T150000
DTSTAMP:20260425T081527
CREATED:20240416T191545Z
LAST-MODIFIED:20240416T192313Z
UID:2851-1740742200-1740754800@allamandagardenclub.com
SUMMARY:Garden Party Scholarship Fundraiser
DESCRIPTION:Join the fun at the Allamanda Garden Club’s Third Annual Garden Party Scholarship Fundraiser on Friday\, February 28th at 11:30AM at the San Pedro Catholic Church. Enjoy a light lunch featuring a variety of croissants\, fruit and vegetable platters\, lovely homemade desserts\, and beverages. The event will feature a large silent raffle\, a 50/50 drawing and surprise entertainment! All proceeds go to scholarships for students pursuing a degree in agricultural\, horticultural\, or botanical sciences. The Allamanda Garden Club is a 501(c)3. This year they will award $5\,000 in scholarships. \n Guests will be seated at tables draped in lovely linens and set with beautiful dinnerware. Every table features a different theme! Wear your floral outfits to enhance the festive garden party atmosphere! \nThe silent raffle promises to be exciting and entertaining. Raffle items include stepping stones\, pottery\, paintings\, garden-related decor\, jewelry and gift certificates to local museums\, restaurants\, garden centers and cultural events. Almost everyone walks out with a prize! \nTo purchase tickets\, contact JoJo Lucibello. Call (203) 506-3740 or email: jlucibello@msn.com \nTickets are $30. Buy them early! Judging from the popularity of last year’s garden party\, we suspect this year’s event will sell out weeks before the garden party. No tickets will be sold at the door. \n 
URL:https://allamandagardenclub.com/events/garden-party-scholarship-fundraiser/
LOCATION:San Pedro Catholic Church\, 14380 Tamiami Trail\, North Port\, Florida\, 34287
CATEGORIES:Special Event
END:VEVENT
END:VCALENDAR