BEGIN:VCALENDAR
VERSION:2.0
PRODID:-//The Allamanda Garden Club of North Port, Florida - ECPv6.15.10//NONSGML v1.0//EN
CALSCALE:GREGORIAN
METHOD:PUBLISH
X-ORIGINAL-URL:https://allamandagardenclub.com
X-WR-CALDESC:Events for The Allamanda Garden Club of North Port, Florida
REFRESH-INTERVAL;VALUE=DURATION:PT1H
X-Robots-Tag:noindex
X-PUBLISHED-TTL:PT1H
BEGIN:VTIMEZONE
TZID:America/New_York
BEGIN:DAYLIGHT
TZOFFSETFROM:-0500
TZOFFSETTO:-0400
TZNAME:EDT
DTSTART:20240310T070000
END:DAYLIGHT
BEGIN:STANDARD
TZOFFSETFROM:-0400
TZOFFSETTO:-0500
TZNAME:EST
DTSTART:20241103T060000
END:STANDARD
BEGIN:DAYLIGHT
TZOFFSETFROM:-0500
TZOFFSETTO:-0400
TZNAME:EDT
DTSTART:20250309T070000
END:DAYLIGHT
BEGIN:STANDARD
TZOFFSETFROM:-0400
TZOFFSETTO:-0500
TZNAME:EST
DTSTART:20251102T060000
END:STANDARD
BEGIN:DAYLIGHT
TZOFFSETFROM:-0500
TZOFFSETTO:-0400
TZNAME:EDT
DTSTART:20260308T070000
END:DAYLIGHT
BEGIN:STANDARD
TZOFFSETFROM:-0400
TZOFFSETTO:-0500
TZNAME:EST
DTSTART:20261101T060000
END:STANDARD
END:VTIMEZONE
BEGIN:VEVENT
DTSTART;TZID=America/New_York:20250411T100000
DTEND;TZID=America/New_York:20250411T130000
DTSTAMP:20260425T081527
CREATED:20240712T221409Z
LAST-MODIFIED:20240714T221351Z
UID:2995-1744365600-1744376400@allamandagardenclub.com
SUMMARY:Hypertufa Pots
DESCRIPTION:Hypertufa Pots – Hypertufa pots are made of concrete\, perlite\, and peat moss. They’re lightweight\, containers often planted with succulents. If left in a shady\, moist environment\, they may eventually be covered in moss. \nThese pots are made to resemble natural tufa\, a very porous rock found naturally occurring in many parts of the world –      it’s particularly sought after by avid succulent and alpine growers.  \nJoin us for this workshop in Lisa’s shady side yard. Limited to 15. Wear clothes you’re not afraid of getting dirty. We’ll be playing in the mud. Attendees will be given a list of supplies they must provide. (gloves\, container\, etc.) \nCost $25.00 for members. $30 for non-members \nBring a chair\, a beverage and a snack and we can socialize afterward. \nNo-shows or cancellations after April 4th will not be refunded. Contact Carrie if you must cancel. \n 
URL:https://allamandagardenclub.com/events/hypertufa-pots/
LOCATION:Lisa’s House\, 2210 Viera St.\, North Port\, FL\, 34286
CATEGORIES:Workshop
END:VEVENT
END:VCALENDAR