BEGIN:VCALENDAR
VERSION:2.0
PRODID:-//The Allamanda Garden Club of North Port, Florida - ECPv6.15.10//NONSGML v1.0//EN
CALSCALE:GREGORIAN
METHOD:PUBLISH
X-ORIGINAL-URL:https://allamandagardenclub.com
X-WR-CALDESC:Events for The Allamanda Garden Club of North Port, Florida
REFRESH-INTERVAL;VALUE=DURATION:PT1H
X-Robots-Tag:noindex
X-PUBLISHED-TTL:PT1H
BEGIN:VTIMEZONE
TZID:America/New_York
BEGIN:DAYLIGHT
TZOFFSETFROM:-0500
TZOFFSETTO:-0400
TZNAME:EDT
DTSTART:20240310T070000
END:DAYLIGHT
BEGIN:STANDARD
TZOFFSETFROM:-0400
TZOFFSETTO:-0500
TZNAME:EST
DTSTART:20241103T060000
END:STANDARD
BEGIN:DAYLIGHT
TZOFFSETFROM:-0500
TZOFFSETTO:-0400
TZNAME:EDT
DTSTART:20250309T070000
END:DAYLIGHT
BEGIN:STANDARD
TZOFFSETFROM:-0400
TZOFFSETTO:-0500
TZNAME:EST
DTSTART:20251102T060000
END:STANDARD
BEGIN:DAYLIGHT
TZOFFSETFROM:-0500
TZOFFSETTO:-0400
TZNAME:EDT
DTSTART:20260308T070000
END:DAYLIGHT
BEGIN:STANDARD
TZOFFSETFROM:-0400
TZOFFSETTO:-0500
TZNAME:EST
DTSTART:20261101T060000
END:STANDARD
END:VTIMEZONE
BEGIN:VEVENT
DTSTART;TZID=America/New_York:20250426T090000
DTEND;TZID=America/New_York:20250426T140000
DTSTAMP:20260425T061858
CREATED:20250305T193057Z
LAST-MODIFIED:20250305T193057Z
UID:3237-1745658000-1745676000@allamandagardenclub.com
SUMMARY:Florida-Friendly Garden Fest
DESCRIPTION:The Allamanda Garden Club will be participating in the Florida Friendly Garden Fest 2025.
URL:https://allamandagardenclub.com/events/florida-friendly-garden-fest/
LOCATION:Centennial Park Recreation Center\, 1120 Centennial Blvd\, Port Charlotte\, FL\, 33953
END:VEVENT
END:VCALENDAR