BEGIN:VCALENDAR
VERSION:2.0
PRODID:-//The Allamanda Garden Club of North Port, Florida - ECPv6.15.10//NONSGML v1.0//EN
CALSCALE:GREGORIAN
METHOD:PUBLISH
X-ORIGINAL-URL:https://allamandagardenclub.com
X-WR-CALDESC:Events for The Allamanda Garden Club of North Port, Florida
REFRESH-INTERVAL;VALUE=DURATION:PT1H
X-Robots-Tag:noindex
X-PUBLISHED-TTL:PT1H
BEGIN:VTIMEZONE
TZID:America/New_York
BEGIN:DAYLIGHT
TZOFFSETFROM:-0500
TZOFFSETTO:-0400
TZNAME:EDT
DTSTART:20250309T070000
END:DAYLIGHT
BEGIN:STANDARD
TZOFFSETFROM:-0400
TZOFFSETTO:-0500
TZNAME:EST
DTSTART:20251102T060000
END:STANDARD
BEGIN:DAYLIGHT
TZOFFSETFROM:-0500
TZOFFSETTO:-0400
TZNAME:EDT
DTSTART:20260308T070000
END:DAYLIGHT
BEGIN:STANDARD
TZOFFSETFROM:-0400
TZOFFSETTO:-0500
TZNAME:EST
DTSTART:20261101T060000
END:STANDARD
BEGIN:DAYLIGHT
TZOFFSETFROM:-0500
TZOFFSETTO:-0400
TZNAME:EDT
DTSTART:20270314T070000
END:DAYLIGHT
BEGIN:STANDARD
TZOFFSETFROM:-0400
TZOFFSETTO:-0500
TZNAME:EST
DTSTART:20271107T060000
END:STANDARD
END:VTIMEZONE
BEGIN:VEVENT
DTSTART;TZID=America/New_York:20260123T130000
DTEND;TZID=America/New_York:20260123T150000
DTSTAMP:20260423T194850
CREATED:20250422T222633Z
LAST-MODIFIED:20250924T143039Z
UID:3324-1769173200-1769180400@allamandagardenclub.com
SUMMARY:Growing African Violets
DESCRIPTION:Lisa Colburn will discuss how to be successful with growing African Violets\, one of the most popular blooming houseplants in the world. The presentation will address propagation and division\, how to deal with disease and pest problems\, and grooming. Audience members are encouraged to bring in their plants for assistance. Many people walk out with a new favorite houseplant.\n \n \n 
URL:https://allamandagardenclub.com/events/member-meeting-9/
LOCATION:North Port Public Library\, 13800 Tamiami Trail\, North Port\, FL\, 34287
CATEGORIES:Monthly meeting
END:VEVENT
END:VCALENDAR