BEGIN:VCALENDAR
VERSION:2.0
PRODID:-//The Allamanda Garden Club of North Port, Florida - ECPv6.15.10//NONSGML v1.0//EN
CALSCALE:GREGORIAN
METHOD:PUBLISH
X-WR-CALNAME:The Allamanda Garden Club of North Port, Florida
X-ORIGINAL-URL:https://allamandagardenclub.com
X-WR-CALDESC:Events for The Allamanda Garden Club of North Port, Florida
REFRESH-INTERVAL;VALUE=DURATION:PT1H
X-Robots-Tag:noindex
X-PUBLISHED-TTL:PT1H
BEGIN:VTIMEZONE
TZID:UTC
BEGIN:STANDARD
TZOFFSETFROM:+0000
TZOFFSETTO:+0000
TZNAME:UTC
DTSTART:20180101T000000
END:STANDARD
END:VTIMEZONE
BEGIN:VEVENT
DTSTART;TZID=UTC:20220520T140000
DTEND;TZID=UTC:20220520T160000
DTSTAMP:20260423T200723
CREATED:20210915T203331Z
LAST-MODIFIED:20220516T180029Z
UID:1925-1653055200-1653062400@allamandagardenclub.com
SUMMARY:Allamanda Garden Club Board Meeting
DESCRIPTION:This meeting will be a Zoom meeting. President\, Janet McMahon will email the link to board members.
URL:https://allamandagardenclub.com/events/allamanda-garden-club-board-meeting-6/
CATEGORIES:Board Meeting
END:VEVENT
BEGIN:VEVENT
DTSTART;TZID=UTC:20220415T140000
DTEND;TZID=UTC:20220415T160000
DTSTAMP:20260423T200723
CREATED:20210915T203023Z
LAST-MODIFIED:20210915T203023Z
UID:1921-1650031200-1650038400@allamandagardenclub.com
SUMMARY:Allamanda Garden Club Board Meeting
DESCRIPTION:All members are welcome to attend board meetings.
URL:https://allamandagardenclub.com/events/allamanda-garden-club-board-meeting-5/
LOCATION:Dallas White Park\, 5900 Greenwood Ave\, North Port\, FL\, 34287
CATEGORIES:Board Meeting
END:VEVENT
BEGIN:VEVENT
DTSTART;TZID=UTC:20220318T080000
DTEND;TZID=UTC:20220318T120000
DTSTAMP:20260423T200723
CREATED:20210915T202331Z
LAST-MODIFIED:20220313T160438Z
UID:1914-1647590400-1647604800@allamandagardenclub.com
SUMMARY:Plant Sale Set-up and Board Meeting
DESCRIPTION:Please check your email for updates. \nBoard meeting will begin immediately after plant sale set-up – noonish. \nBoard members please bring a chair and a brown bag lunch.
URL:https://allamandagardenclub.com/events/plant-sale-set-up-and-board-meeting/
LOCATION:Jerry and Mary Jo Davis’s Yard\, 3390 Nansen Lane\, North Port\, FL\, 34286
CATEGORIES:Board Meeting
END:VEVENT
BEGIN:VEVENT
DTSTART;TZID=UTC:20220218T140000
DTEND;TZID=UTC:20220218T160000
DTSTAMP:20260423T200723
CREATED:20210915T201855Z
LAST-MODIFIED:20210915T201855Z
UID:1908-1645192800-1645200000@allamandagardenclub.com
SUMMARY:Allamanda Garden Club Board Meeting
DESCRIPTION:Board Meetings are always open to the public.
URL:https://allamandagardenclub.com/events/allamanda-garden-club-board-meeting-4/
LOCATION:North Port Public Library\, 13800 Tamiami Trail\, North Port\, FL\, 34287
CATEGORIES:Board Meeting
END:VEVENT
BEGIN:VEVENT
DTSTART;TZID=UTC:20220121T140000
DTEND;TZID=UTC:20220121T160000
DTSTAMP:20260423T200723
CREATED:20210915T201548Z
LAST-MODIFIED:20210915T201548Z
UID:1904-1642773600-1642780800@allamandagardenclub.com
SUMMARY:Allamanda Garden Club Board Meeting
DESCRIPTION:Meetings are always open to the public
URL:https://allamandagardenclub.com/events/allamanda-garden-club-board-meeting-3/
LOCATION:North Port Public Library\, 13800 Tamiami Trail\, North Port\, FL\, 34287
CATEGORIES:Board Meeting
END:VEVENT
BEGIN:VEVENT
DTSTART;TZID=UTC:20211217T140000
DTEND;TZID=UTC:20211217T160000
DTSTAMP:20260423T200723
CREATED:20210915T201421Z
LAST-MODIFIED:20210915T201421Z
UID:1902-1639749600-1639756800@allamandagardenclub.com
SUMMARY:Allamanda Garden Club Board Meeting
DESCRIPTION:Board meetings are always open to the public
URL:https://allamandagardenclub.com/events/allamanda-garden-club-board-meeting-2/
LOCATION:Dallas White Park\, 5900 Greenwood Ave\, North Port\, FL\, 34287
CATEGORIES:Board Meeting
END:VEVENT
BEGIN:VEVENT
DTSTART;TZID=UTC:20211112T140000
DTEND;TZID=UTC:20211112T170000
DTSTAMP:20260423T200723
CREATED:20210915T193926Z
LAST-MODIFIED:20210915T193951Z
UID:1890-1636725600-1636736400@allamandagardenclub.com
SUMMARY:Allamanda Garden Club Board Meeting
DESCRIPTION:All members are welcome to attend board meetings.
URL:https://allamandagardenclub.com/events/allamanda-garden-club-board-meeting/
LOCATION:Dallas White Park\, 5900 Greenwood Ave\, North Port\, FL\, 34287
CATEGORIES:Board Meeting
END:VEVENT
BEGIN:VEVENT
DTSTART;TZID=UTC:20211015T140000
DTEND;TZID=UTC:20211015T150000
DTSTAMP:20260423T200723
CREATED:20210910T002925Z
LAST-MODIFIED:20210910T002925Z
UID:1881-1634306400-1634310000@allamandagardenclub.com
SUMMARY:AGC Board Meeting
DESCRIPTION:This will be a Zoom meeting. The link will be sent out prior to the meeting.
URL:https://allamandagardenclub.com/events/agc-board-meeting-2/
CATEGORIES:Board Meeting
END:VEVENT
BEGIN:VEVENT
DTSTART;TZID=UTC:20210920T140000
DTEND;TZID=UTC:20210920T160000
DTSTAMP:20260423T200723
CREATED:20210910T001957Z
LAST-MODIFIED:20210910T001957Z
UID:1876-1632146400-1632153600@allamandagardenclub.com
SUMMARY:AGC Board Meeting
DESCRIPTION:This meeting will be a Zoom meeting – link will be emailed prior to the meeting.
URL:https://allamandagardenclub.com/events/agc-board-meeting/
CATEGORIES:Board Meeting
END:VEVENT
BEGIN:VEVENT
DTSTART;TZID=UTC:20210521T140000
DTEND;TZID=UTC:20210521T170000
DTSTAMP:20260423T200723
CREATED:20200907T205324Z
LAST-MODIFIED:20210120T191426Z
UID:1633-1621605600-1621616400@allamandagardenclub.com
SUMMARY:Board Meeting
DESCRIPTION:
URL:https://allamandagardenclub.com/events/board-meeting-15/
LOCATION:Dallas White Park\, 5900 Greenwood Ave\, North Port\, FL\, 34287
CATEGORIES:Board Meeting
END:VEVENT
BEGIN:VEVENT
DTSTART;TZID=UTC:20210416T140000
DTEND;TZID=UTC:20210416T160000
DTSTAMP:20260423T200723
CREATED:20200907T205059Z
LAST-MODIFIED:20210120T190811Z
UID:1631-1618581600-1618588800@allamandagardenclub.com
SUMMARY:Board Meeting
DESCRIPTION:
URL:https://allamandagardenclub.com/events/board-meeting-13/
LOCATION:Dallas White Park\, 5900 Greenwood Ave\, North Port\, FL\, 34287
CATEGORIES:Board Meeting
END:VEVENT
BEGIN:VEVENT
DTSTART;TZID=UTC:20210319T140000
DTEND;TZID=UTC:20210319T160000
DTSTAMP:20260423T200723
CREATED:20200907T204849Z
LAST-MODIFIED:20210120T190552Z
UID:1629-1616162400-1616169600@allamandagardenclub.com
SUMMARY:Board Meeting
DESCRIPTION:
URL:https://allamandagardenclub.com/events/board-meeting-12/
LOCATION:Dallas White Park\, 5900 Greenwood Ave\, North Port\, FL\, 34287
CATEGORIES:Board Meeting
END:VEVENT
BEGIN:VEVENT
DTSTART;TZID=UTC:20210219T140000
DTEND;TZID=UTC:20210219T170000
DTSTAMP:20260423T200723
CREATED:20200907T204552Z
LAST-MODIFIED:20210120T190228Z
UID:1627-1613743200-1613754000@allamandagardenclub.com
SUMMARY:Board Meeting
DESCRIPTION:
URL:https://allamandagardenclub.com/events/board-meeting-10/
LOCATION:Dallas White Park\, 5900 Greenwood Ave\, North Port\, FL\, 34287
CATEGORIES:Board Meeting
END:VEVENT
BEGIN:VEVENT
DTSTART;TZID=UTC:20210115T140000
DTEND;TZID=UTC:20210115T160000
DTSTAMP:20260423T200723
CREATED:20200907T204042Z
LAST-MODIFIED:20210110T003936Z
UID:1625-1610719200-1610726400@allamandagardenclub.com
SUMMARY:Board Meeting
DESCRIPTION:This meeting will be at Dallas White Park\, 5900 Greenwood Ave.
URL:https://allamandagardenclub.com/events/board-meeting-9/
LOCATION:Dallas White Park\, 5900 Greenwood Ave\, North Port\, FL\, 34287
CATEGORIES:Board Meeting
END:VEVENT
BEGIN:VEVENT
DTSTART;TZID=UTC:20201218T140000
DTEND;TZID=UTC:20201218T160000
DTSTAMP:20260423T200723
CREATED:20200907T202059Z
LAST-MODIFIED:20201215T003312Z
UID:1623-1608300000-1608307200@allamandagardenclub.com
SUMMARY:Board Meeting
DESCRIPTION:Bring a folding chair.  \nAs always\, meetings are open to all members.
URL:https://allamandagardenclub.com/events/board-meeting-8/
LOCATION:Dallas White Park\, 5900 Greenwood Ave\, North Port\, FL\, 34287
CATEGORIES:Board Meeting
END:VEVENT
BEGIN:VEVENT
DTSTART;TZID=UTC:20200918T140000
DTEND;TZID=UTC:20200918T160000
DTSTAMP:20260423T200723
CREATED:20200907T200015Z
LAST-MODIFIED:20200907T200525Z
UID:1616-1600437600-1600444800@allamandagardenclub.com
SUMMARY:Virtual Board Meeting
DESCRIPTION:A Zoom invitation will be emailed to all board members. As always\, the board meeting is open to all members. Please contact Lisa if you wish to be included in the Zoom meeting.
URL:https://allamandagardenclub.com/events/virtual-board-meeting/
CATEGORIES:Board Meeting
END:VEVENT
BEGIN:VEVENT
DTSTART;TZID=UTC:20200221T140000
DTEND;TZID=UTC:20200221T160000
DTSTAMP:20260423T200723
CREATED:20190808T193100Z
LAST-MODIFIED:20190808T233935Z
UID:1237-1582293600-1582300800@allamandagardenclub.com
SUMMARY:BOARD MEETING
DESCRIPTION:All members are welcome to attend our board meetings.
URL:https://allamandagardenclub.com/events/board-meeting-11/
LOCATION:North Port Public Library\, 13800 Tamiami Trail\, North Port\, FL\, 34287
CATEGORIES:Board Meeting
END:VEVENT
BEGIN:VEVENT
DTSTART;TZID=UTC:20200117T140000
DTEND;TZID=UTC:20200117T160000
DTSTAMP:20260423T200723
CREATED:20190808T192958Z
LAST-MODIFIED:20191205T034227Z
UID:1235-1579269600-1579276800@allamandagardenclub.com
SUMMARY:BOARD MEETING
DESCRIPTION:All members are welcome to attend our board meetings.
URL:https://allamandagardenclub.com/events/board-meeting-5/
LOCATION:The Olde World Restaurant\, 14415 Tamiami Trail\, North Port\, Florida\, 34287
CATEGORIES:Board Meeting
END:VEVENT
BEGIN:VEVENT
DTSTART;TZID=UTC:20191213T140000
DTEND;TZID=UTC:20191213T160000
DTSTAMP:20260423T200723
CREATED:20190808T192849Z
LAST-MODIFIED:20191205T034032Z
UID:1233-1576245600-1576252800@allamandagardenclub.com
SUMMARY:BOARD MEETING
DESCRIPTION:All members are welcome to attend our board meetings.
URL:https://allamandagardenclub.com/events/board-meeting-4/
LOCATION:The Olde World Restuarant\, 14415 Tamiami Trail\, North Port\, FL
CATEGORIES:Board Meeting
END:VEVENT
BEGIN:VEVENT
DTSTART;TZID=UTC:20191115T140000
DTEND;TZID=UTC:20191115T160000
DTSTAMP:20260423T200723
CREATED:20190808T192746Z
LAST-MODIFIED:20190808T192746Z
UID:1231-1573826400-1573833600@allamandagardenclub.com
SUMMARY:BOARD MEETING
DESCRIPTION:All members are welcome to attend our board meetings.
URL:https://allamandagardenclub.com/events/board-meeting-3/
LOCATION:North Port Public Library\, 13800 Tamiami Trail\, North Port\, FL\, 34287
CATEGORIES:Board Meeting
END:VEVENT
BEGIN:VEVENT
DTSTART;TZID=UTC:20190920T140000
DTEND;TZID=UTC:20190920T160000
DTSTAMP:20260423T200723
CREATED:20190808T192423Z
LAST-MODIFIED:20190808T195845Z
UID:1227-1568988000-1568995200@allamandagardenclub.com
SUMMARY:BOARD MEETING
DESCRIPTION:All members are welcome to attend our board meetings.
URL:https://allamandagardenclub.com/events/board-meeting/
LOCATION:North Port Public Library\, 13800 Tamiami Trail\, North Port\, FL\, 34287
CATEGORIES:Board Meeting
END:VEVENT
END:VCALENDAR