BEGIN:VCALENDAR
VERSION:2.0
PRODID:-//The Allamanda Garden Club of North Port, Florida - ECPv6.15.10//NONSGML v1.0//EN
CALSCALE:GREGORIAN
METHOD:PUBLISH
X-WR-CALNAME:The Allamanda Garden Club of North Port, Florida
X-ORIGINAL-URL:https://allamandagardenclub.com
X-WR-CALDESC:Events for The Allamanda Garden Club of North Port, Florida
REFRESH-INTERVAL;VALUE=DURATION:PT1H
X-Robots-Tag:noindex
X-PUBLISHED-TTL:PT1H
BEGIN:VTIMEZONE
TZID:America/New_York
BEGIN:DAYLIGHT
TZOFFSETFROM:-0500
TZOFFSETTO:-0400
TZNAME:EDT
DTSTART:20230312T070000
END:DAYLIGHT
BEGIN:STANDARD
TZOFFSETFROM:-0400
TZOFFSETTO:-0500
TZNAME:EST
DTSTART:20231105T060000
END:STANDARD
BEGIN:DAYLIGHT
TZOFFSETFROM:-0500
TZOFFSETTO:-0400
TZNAME:EDT
DTSTART:20240310T070000
END:DAYLIGHT
BEGIN:STANDARD
TZOFFSETFROM:-0400
TZOFFSETTO:-0500
TZNAME:EST
DTSTART:20241103T060000
END:STANDARD
BEGIN:DAYLIGHT
TZOFFSETFROM:-0500
TZOFFSETTO:-0400
TZNAME:EDT
DTSTART:20250309T070000
END:DAYLIGHT
BEGIN:STANDARD
TZOFFSETFROM:-0400
TZOFFSETTO:-0500
TZNAME:EST
DTSTART:20251102T060000
END:STANDARD
END:VTIMEZONE
BEGIN:VTIMEZONE
TZID:UTC
BEGIN:STANDARD
TZOFFSETFROM:+0000
TZOFFSETTO:+0000
TZNAME:UTC
DTSTART:20180101T000000
END:STANDARD
END:VTIMEZONE
BEGIN:VEVENT
DTSTART;TZID=America/New_York:20241102T100000
DTEND;TZID=America/New_York:20241102T120000
DTSTAMP:20260423T232755
CREATED:20240712T222845Z
LAST-MODIFIED:20240713T064639Z
UID:3004-1730541600-1730548800@allamandagardenclub.com
SUMMARY:Newcomers' Day
DESCRIPTION:Newcomer’s Day is November 2\, 2024 from 10:00 AM to Noon. \nThis is an opportunity for the club to promote the existence of our organization and possibly get new members! \nSet-up begins at 8:00AM and must be completed by 9:30AM
URL:https://allamandagardenclub.com/events/newcomers-day/
LOCATION:George Mullen Activity Center\, 4950 City Center Blvd.\, North Port\, FL
CATEGORIES:Community Outreach
END:VEVENT
BEGIN:VEVENT
DTSTART;TZID=America/New_York:20240203T100000
DTEND;TZID=America/New_York:20240203T120000
DTSTAMP:20260423T232755
CREATED:20230905T185202Z
LAST-MODIFIED:20231217T130817Z
UID:2683-1706954400-1706961600@allamandagardenclub.com
SUMMARY:Newcomer's Day
DESCRIPTION:Newcomer’s Day is February 3\, 2024 from 10:00 AM to Noon. \nThis is an opportunity for the club to promote the existence of our organization and possibly get new members! \nSet-up begins at 8:00AM and must be completed by 9:30AM
URL:https://allamandagardenclub.com/events/newcomer-day/
LOCATION:George Mullen Activity Center\, 4950 City Center Blvd.\, North Port\, FL
CATEGORIES:Community Outreach
END:VEVENT
BEGIN:VEVENT
DTSTART;TZID=UTC:20191102T100000
DTEND;TZID=UTC:20191102T120000
DTSTAMP:20260423T232755
CREATED:20190721T041324Z
LAST-MODIFIED:20190721T041456Z
UID:1131-1572688800-1572696000@allamandagardenclub.com
SUMMARY:NORTH PORT NEWCOMER’S DAY
DESCRIPTION:This expo-like event features information tables at the George Mullen Activity Center run by more than 80 community organizations\, government agencies\, and local businesses.
URL:https://allamandagardenclub.com/events/north-port-newcomers-day/
LOCATION:George Mullen Activity Center\, 4950 City Center Blvd.\, North Port\, FL
CATEGORIES:Community Outreach
ATTACH;FMTTYPE=image/jpeg:https://allamandagardenclub.com/wp-content/uploads/2019/07/emily-and-gail-e1599155186848.jpg
END:VEVENT
END:VCALENDAR