BEGIN:VCALENDAR
VERSION:2.0
PRODID:-//The Allamanda Garden Club of North Port, Florida - ECPv6.15.10//NONSGML v1.0//EN
CALSCALE:GREGORIAN
METHOD:PUBLISH
X-WR-CALNAME:The Allamanda Garden Club of North Port, Florida
X-ORIGINAL-URL:https://allamandagardenclub.com
X-WR-CALDESC:Events for The Allamanda Garden Club of North Port, Florida
REFRESH-INTERVAL;VALUE=DURATION:PT1H
X-Robots-Tag:noindex
X-PUBLISHED-TTL:PT1H
BEGIN:VTIMEZONE
TZID:America/New_York
BEGIN:DAYLIGHT
TZOFFSETFROM:-0500
TZOFFSETTO:-0400
TZNAME:EDT
DTSTART:20220313T070000
END:DAYLIGHT
BEGIN:STANDARD
TZOFFSETFROM:-0400
TZOFFSETTO:-0500
TZNAME:EST
DTSTART:20221106T060000
END:STANDARD
BEGIN:DAYLIGHT
TZOFFSETFROM:-0500
TZOFFSETTO:-0400
TZNAME:EDT
DTSTART:20230312T070000
END:DAYLIGHT
BEGIN:STANDARD
TZOFFSETFROM:-0400
TZOFFSETTO:-0500
TZNAME:EST
DTSTART:20231105T060000
END:STANDARD
BEGIN:DAYLIGHT
TZOFFSETFROM:-0500
TZOFFSETTO:-0400
TZNAME:EDT
DTSTART:20240310T070000
END:DAYLIGHT
BEGIN:STANDARD
TZOFFSETFROM:-0400
TZOFFSETTO:-0500
TZNAME:EST
DTSTART:20241103T060000
END:STANDARD
BEGIN:DAYLIGHT
TZOFFSETFROM:-0500
TZOFFSETTO:-0400
TZNAME:EDT
DTSTART:20250309T070000
END:DAYLIGHT
BEGIN:STANDARD
TZOFFSETFROM:-0400
TZOFFSETTO:-0500
TZNAME:EST
DTSTART:20251102T060000
END:STANDARD
BEGIN:DAYLIGHT
TZOFFSETFROM:-0500
TZOFFSETTO:-0400
TZNAME:EDT
DTSTART:20260308T070000
END:DAYLIGHT
BEGIN:STANDARD
TZOFFSETFROM:-0400
TZOFFSETTO:-0500
TZNAME:EST
DTSTART:20261101T060000
END:STANDARD
END:VTIMEZONE
BEGIN:VTIMEZONE
TZID:UTC
BEGIN:STANDARD
TZOFFSETFROM:+0000
TZOFFSETTO:+0000
TZNAME:UTC
DTSTART:20180101T000000
END:STANDARD
END:VTIMEZONE
BEGIN:VEVENT
DTSTART;TZID=America/New_York:20250124T100000
DTEND;TZID=America/New_York:20250124T153000
DTSTAMP:20260423T214249
CREATED:20240420T163351Z
LAST-MODIFIED:20241215T190346Z
UID:2880-1737712800-1737732600@allamandagardenclub.com
SUMMARY:New Beginnings Flower Show
DESCRIPTION:January 24\, 2025 CRAFTS & DESIGNS\nARTISTIC CRAFTS \n1. “Gnomes” – A Winter Gnome made with fresh materials. No artificial.\n2. “Cracked Pots” – Plants will not be judged but should be in pristine condition. No artificial material. \nDESIGN CLASSES\n1. “Show what you grow” – Design may include plants\, veggies\, herbs\, etc. grown by the exhibitor. List on\nan index card: the plant by name with your name on the back. (Botanical name not needed)\n2. ”Fresh Start” – Design arrangement of fresh and/or dried material. Dried material can be spray painted.\nList all plant names on an index card and your name on the back. (Botanical names not needed.)\nAll designs will be staged on a 36” high table. \nHORTICULTURE\n1. Cuttings – Grower may bring whatever horticulture looks good at the time of the show\, as long as it has\nbeen in your possession for 90 days or more\, 60 days in combination plantings\, and weighs no more\nthan 20 lbs. Plants will be placed according to types\, such as bromeliads\, orchids\, succulents\, cacti\,\ncontainer-grown foliage\, container-grown flowering\, cut foliage\, cut flowering\, and dish gardens.\nGrower will have their name and the plants’ names (the botanical name is suggested) on an index card.\nBottles will be provided for cut specimens. \nRULES\nForm – Plants should be centered in the pot\, well-rounded (not one-sided) Pot should fit the size of the plant.\nFoliage – well-hydrated\, vibrant color\, healthy\, lush. No damage\, pests\, disease\, or dirt. Signs of new growth\nand pups are okay.\nFlowers – present if required. (no faded blooms)\nGrooming – clean pots\, clean plants\, no debris\, no dead leaves\, etc. Must be in pristine condition.\nTo make things run smoothly on the day of the show\, please pre-register your DESIGN entry with Emily Panek\nby phone at 941-786-1541 or email msemilypanek@comcast.net Simply give her your name\, phone number\,\nand email address\, and let her know what you’re entering.\nBring your entries and plants to the Shannon Staub Library on Friday morning\, January 24\, 2025\, between 9 and\n10 AM. There will be volunteers to help you identify your plants by botanical name.\nJudging will begin at 11 AM.\nFind out about how entries are placed and see the ribbons that were awarded when you arrive for the\nMembership Meeting at 1 PM.
URL:https://allamandagardenclub.com/events/member-meeting-4/
LOCATION:Shannon Staub Library\, 4675 Career Lane\, North Port\, FL\, 34289
CATEGORIES:Flower Show,Monthly meeting
END:VEVENT
BEGIN:VEVENT
DTSTART;TZID=America/New_York:20230330T100000
DTEND;TZID=America/New_York:20230330T153000
DTSTAMP:20260423T214249
CREATED:20230109T153846Z
LAST-MODIFIED:20230319T162328Z
UID:2429-1680170400-1680190200@allamandagardenclub.com
SUMMARY:Spring Has Sprung - 2023 Flower Show
DESCRIPTION:Susie Cochran\, our Flower Show Chair\, and her crew have planned a simple horticulture and design show that will let all of you shine!  Don’t be shy!   Go for it! \nIt’s easy! There are several ways to participate. \nThe design theme is Spring Bouquet \nIf you’ve taken one of the recent workshops\, you can enter your creation in one of the design categories: \n\nDried flower wreaths\nSteppingstones\nFlower Pounding Art (Tataki Zome)\nMake a table arrangement meant to be viewed from one side\n\nPlease note that categories 1 and 4 must be composed of plant material – nothing artificial.  If it comes from a plant\, you can use it! Dried plant material can be spray painted. \nTo make things run smoothly on the day of the show\, please pre-register your entry with Emily Panek by phone 941-786-1541 or email msemilypanek@comcast.net.   Simply give her your name\, phone number and/or email address and let her know what you’re entering.\n \nFor horticulture\, bring any of the following:   \n1) Cuttings from one or more plants in your yard (shrub\, tree\, annual or perennial) that are healthy and attractive. This can be a flower\, leaves\, or branches (no longer than 30 inches).  Just go out into your yard Thursday afternoon or evening and take cuttings of your favorite plants\, place them in water and hold them overnight in a cool area of your house to acclimate them.  \n2) Container grown/potted plants that you have owned and cared for two months or more.  This can be any healthy\, attractive potted plant or hanging basket – foliage\, flowering\, or succulent plants. The only limitation is that it must be small enough to be lifted easily by the show volunteers.  (Less than 20 pounds) Please do not bring big heavy floor plants. \nBring your entries and plants to the Shannon Staub Library Thursday morning\, March 30th @ 9:00AM.  There will be volunteers to help you identify your plant by its botanical name.  Judging begins @ 11:30AM. Find out about how entries placed and see the ribbons awarded when you arrive for the Membership Meeting @1:00PM. \nHere is a printable version of the schedule:\nhttps://allamandagardenclub.com/wp-content/uploads/2023/03/Spring-Has-Sprung.pdf
URL:https://allamandagardenclub.com/events/horticulture-flower-show-3/
LOCATION:Shannon Staub Library\, 4675 Career Lane\, North Port\, FL\, 34289
CATEGORIES:Flower Show,Monthly meeting
END:VEVENT
BEGIN:VEVENT
DTSTART;TZID=UTC:20211119T080000
DTEND;TZID=UTC:20211119T150000
DTSTAMP:20260423T214249
CREATED:20210915T194147Z
LAST-MODIFIED:20211115T183748Z
UID:1893-1637308800-1637334000@allamandagardenclub.com
SUMMARY:Horticulture Flower Show
DESCRIPTION:Susie Cochran\, our Flower Show Chair\, and her crew have planned a simple horticulture and design show that will let all of you shine!  Don’t be shy!  We want this to be fun!  Everyone has at least one plant that they take particular pride in!  Go for it! \n\n\n\n\n\n\nIt’s easy!  For design you can:  \n\n\n\n\n\n\n1) Make a Thanksgiving table arrangement meant to be viewed from two sides\, and/or \n\n2) Make a Christmas flower arrangement meant to be viewed from one side only. \n\nThe only limitation is that the arrangements must be composed of plant material\, nothing artificial.  If it comes from a plant\, you can use it!\n\n\n\n\n\n\n\nFor horticulture\, you can bring any of the following:  \n\n\n\n\n\n\n1) Cuttings from one or more plants in your yard (shrub\, tree\, annual or perennial) that are healthy and attractive. This can be a flower\, leaves or branches (no longer than 30 inches).  Just go out into your yard Thursday afternoon or evening and take cuttings of your favorite plants\, place them in water and hold them overnight in a cool area of your house to acclimate them. \n\n\n\n\n\n\n\n2) Container grown/potted plants that you have owned and cared for for two months or more.  This can be any healthy\, attractive potted plant or hanging basket –  foliage\, flowering\, or succulent plants. The only limitation is that it must be small enough to be lifted easily by the show volunteers.  (Less than 20 pounds) Please do not bring big heavy floor plants.\n\n\n\n\n\n\n\nBring your plants to the Pavilion at Dallas White Park between 8:00 and 9:00 Friday morning.  There will be volunteers to help you identify your plant by its botanical name.  Placings and ribbons will be available when you arrive for our 1:00 general membership meeting.\n\n\nRegular meeting begins at 1:00pm.
URL:https://allamandagardenclub.com/events/horticulture-flower-show/
LOCATION:Dallas White Park\, 5900 Greenwood Ave\, North Port\, FL\, 34287
CATEGORIES:Flower Show,Monthly meeting
END:VEVENT
BEGIN:VEVENT
DTSTART;TZID=UTC:20211021T100000
DTEND;TZID=UTC:20211021T170000
DTSTAMP:20260423T214249
CREATED:20210922T211929Z
LAST-MODIFIED:20210922T212948Z
UID:1936-1634810400-1634835600@allamandagardenclub.com
SUMMARY:Sarasota Garden Club Standard Flower Show
DESCRIPTION:To download a printable version of the flyer\, click on this link: \nSGC Flower Show Flyer copy \n \n 
URL:https://allamandagardenclub.com/events/sarasota-garden-club-standard-flower-show/
LOCATION:Sarasota Garden Club\, 1131 Boulevard of the Arts\, Sarasota\, FL\, 34236\, United States
CATEGORIES:Flower Show
END:VEVENT
BEGIN:VEVENT
DTSTART;TZID=UTC:20200425T080000
DTEND;TZID=UTC:20200425T170000
DTSTAMP:20260423T214249
CREATED:20190808T182903Z
LAST-MODIFIED:20190808T183032Z
UID:1211-1587801600-1587834000@allamandagardenclub.com
SUMMARY:GARDEN CLUB OF ST. PETERSBURG FLOWER SHOW
DESCRIPTION:More details on website: \nhttp://gardenclubstpetersburg.org
URL:https://allamandagardenclub.com/events/garden-club-of-st-petersburg-flower-show/
LOCATION:Walter Fuller Recreation Center\, 7891 26th Ave N.\, St. Pertersburg\, Florida
CATEGORIES:Flower Show
ATTACH;FMTTYPE=image/png:https://allamandagardenclub.com/wp-content/uploads/2019/07/MG_3443.png
END:VEVENT
BEGIN:VEVENT
DTSTART;TZID=UTC:20200328T080000
DTEND;TZID=UTC:20200328T170000
DTSTAMP:20260423T214249
CREATED:20190807T221313Z
LAST-MODIFIED:20190807T221313Z
UID:1204-1585382400-1585414800@allamandagardenclub.com
SUMMARY:SARASOTA GARDEN CLUB FLOWER SHOW
DESCRIPTION:See website for more details: \nhttps://sarasotagardenclub.org \n 
URL:https://allamandagardenclub.com/events/sarasota-garden-club-flower-show-2/
LOCATION:Sarasota Garden Club\, 1131 Boulevard of the Arts\, Sarasota\, FL\, 34236\, United States
CATEGORIES:Flower Show
ATTACH;FMTTYPE=image/png:https://allamandagardenclub.com/wp-content/uploads/2019/07/MG_3443.png
END:VEVENT
BEGIN:VEVENT
DTSTART;TZID=UTC:20200314T080000
DTEND;TZID=UTC:20200314T170000
DTSTAMP:20260423T214249
CREATED:20190807T215254Z
LAST-MODIFIED:20190807T215254Z
UID:1193-1584172800-1584205200@allamandagardenclub.com
SUMMARY:LEMON BAY FLOWER SHOW
DESCRIPTION:MARCH 14\, 2020 \n  \n         See website for more details: \nhttps://www.lemonbaygardenclub.org
URL:https://allamandagardenclub.com/events/lemon-bay-flower-show/
LOCATION:Lemon Bay Garden Club Clubhouse\, 480 Yale Street\, Englewood\, FL
CATEGORIES:Flower Show
ATTACH;FMTTYPE=image/png:https://allamandagardenclub.com/wp-content/uploads/2019/07/MG_3443.png
END:VEVENT
BEGIN:VEVENT
DTSTART;TZID=UTC:20200301T080000
DTEND;TZID=UTC:20200301T170000
DTSTAMP:20260423T214249
CREATED:20190802T190609Z
LAST-MODIFIED:20190807T214131Z
UID:1187-1583049600-1583082000@allamandagardenclub.com
SUMMARY:ENGLEWOOD AREA ORCHID SOCIETY SHOW
DESCRIPTION:Stay tuned for additional details – correct time to be announced. \nhttp://www.eaos.org
URL:https://allamandagardenclub.com/events/englewood-area-orchid-society-show/
LOCATION:Englewood United Methodist Church\, 700 E. Dearborn St\, Englewood\, FL
CATEGORIES:Flower Show
ATTACH;FMTTYPE=image/jpeg:https://allamandagardenclub.com/wp-content/uploads/2018/04/Orchid-e1565199677291.jpg
END:VEVENT
BEGIN:VEVENT
DTSTART;TZID=UTC:20200229T080000
DTEND;TZID=UTC:20200229T170000
DTSTAMP:20260423T214249
CREATED:20190802T190141Z
LAST-MODIFIED:20190802T190141Z
UID:1185-1582963200-1582995600@allamandagardenclub.com
SUMMARY:Sarasota Garden Club Flower Show
DESCRIPTION:Time and location to be announced
URL:https://allamandagardenclub.com/events/sarasota-garden-club-flower-show/
LOCATION:FL
CATEGORIES:Flower Show
ATTACH;FMTTYPE=image/png:https://allamandagardenclub.com/wp-content/uploads/2019/07/MG_3443.png
END:VEVENT
BEGIN:VEVENT
DTSTART;TZID=UTC:20200201T080000
DTEND;TZID=UTC:20200201T170000
DTSTAMP:20260423T214249
CREATED:20190802T152745Z
LAST-MODIFIED:20190802T152835Z
UID:1179-1580544000-1580576400@allamandagardenclub.com
SUMMARY:VENICE AREA ORCHID SOCIETY ORCHID SHOW
DESCRIPTION:FEBRUARY 2020 \nCorrect time and date to be announced soon. \n  For more information go to: https://www.vaos.org \n            326 S. Nokomis Ave.\, Venice
URL:https://allamandagardenclub.com/events/venice-area-orchid-society-orchid-show/
LOCATION:FL
CATEGORIES:Flower Show
ATTACH;FMTTYPE=image/jpeg:https://allamandagardenclub.com/wp-content/uploads/2018/04/Orchid-e1565199677291.jpg
END:VEVENT
BEGIN:VEVENT
DTSTART;TZID=UTC:20200131T080000
DTEND;TZID=UTC:20200131T170000
DTSTAMP:20260423T214249
CREATED:20190802T152415Z
LAST-MODIFIED:20190802T152415Z
UID:1177-1580457600-1580490000@allamandagardenclub.com
SUMMARY:MANATEE RIVER GARDEN CLUB FLOWER SHOW – “20/20 VISION”
DESCRIPTION:JANUARY 31 – FEBRURARY 2\, 2020 \n\nMANATEE RIVER GARDEN CLUB FLOWER SHOW – “20/20 VISION” \n3120 1stAve. W.\, Bradenton \nMore information at: https://www.manateerivergardenclub.com
URL:https://allamandagardenclub.com/events/manatee-river-garden-club-flower-show-20-20-vision/
LOCATION:FL
CATEGORIES:Flower Show
ATTACH;FMTTYPE=image/png:https://allamandagardenclub.com/wp-content/uploads/2019/07/MG_3443.png
END:VEVENT
BEGIN:VEVENT
DTSTART;VALUE=DATE:20191109
DTEND;VALUE=DATE:20191110
DTSTAMP:20260423T214249
CREATED:20190721T043550Z
LAST-MODIFIED:20190721T044112Z
UID:1138-1573257600-1573343999@allamandagardenclub.com
SUMMARY:PLANT CITY GARDEN CLUB FLOWER SHOW
DESCRIPTION:Time and location to be announced.
URL:https://allamandagardenclub.com/events/plant-city-garden-club-flower-show/
LOCATION:FL
CATEGORIES:Flower Show
ATTACH;FMTTYPE=image/png:https://allamandagardenclub.com/wp-content/uploads/2019/07/MG_3443.png
END:VEVENT
END:VCALENDAR