BEGIN:VCALENDAR
VERSION:2.0
PRODID:-//The Allamanda Garden Club of North Port, Florida - ECPv6.15.10//NONSGML v1.0//EN
CALSCALE:GREGORIAN
METHOD:PUBLISH
X-WR-CALNAME:The Allamanda Garden Club of North Port, Florida
X-ORIGINAL-URL:https://allamandagardenclub.com
X-WR-CALDESC:Events for The Allamanda Garden Club of North Port, Florida
REFRESH-INTERVAL;VALUE=DURATION:PT1H
X-Robots-Tag:noindex
X-PUBLISHED-TTL:PT1H
BEGIN:VTIMEZONE
TZID:America/New_York
BEGIN:DAYLIGHT
TZOFFSETFROM:-0500
TZOFFSETTO:-0400
TZNAME:EDT
DTSTART:20210314T070000
END:DAYLIGHT
BEGIN:STANDARD
TZOFFSETFROM:-0400
TZOFFSETTO:-0500
TZNAME:EST
DTSTART:20211107T060000
END:STANDARD
BEGIN:DAYLIGHT
TZOFFSETFROM:-0500
TZOFFSETTO:-0400
TZNAME:EDT
DTSTART:20220313T070000
END:DAYLIGHT
BEGIN:STANDARD
TZOFFSETFROM:-0400
TZOFFSETTO:-0500
TZNAME:EST
DTSTART:20221106T060000
END:STANDARD
BEGIN:DAYLIGHT
TZOFFSETFROM:-0500
TZOFFSETTO:-0400
TZNAME:EDT
DTSTART:20230312T070000
END:DAYLIGHT
BEGIN:STANDARD
TZOFFSETFROM:-0400
TZOFFSETTO:-0500
TZNAME:EST
DTSTART:20231105T060000
END:STANDARD
BEGIN:DAYLIGHT
TZOFFSETFROM:-0500
TZOFFSETTO:-0400
TZNAME:EDT
DTSTART:20240310T070000
END:DAYLIGHT
BEGIN:STANDARD
TZOFFSETFROM:-0400
TZOFFSETTO:-0500
TZNAME:EST
DTSTART:20241103T060000
END:STANDARD
BEGIN:DAYLIGHT
TZOFFSETFROM:-0500
TZOFFSETTO:-0400
TZNAME:EDT
DTSTART:20250309T070000
END:DAYLIGHT
BEGIN:STANDARD
TZOFFSETFROM:-0400
TZOFFSETTO:-0500
TZNAME:EST
DTSTART:20251102T060000
END:STANDARD
BEGIN:DAYLIGHT
TZOFFSETFROM:-0500
TZOFFSETTO:-0400
TZNAME:EDT
DTSTART:20260308T070000
END:DAYLIGHT
BEGIN:STANDARD
TZOFFSETFROM:-0400
TZOFFSETTO:-0500
TZNAME:EST
DTSTART:20261101T060000
END:STANDARD
BEGIN:DAYLIGHT
TZOFFSETFROM:-0500
TZOFFSETTO:-0400
TZNAME:EDT
DTSTART:20270314T070000
END:DAYLIGHT
BEGIN:STANDARD
TZOFFSETFROM:-0400
TZOFFSETTO:-0500
TZNAME:EST
DTSTART:20271107T060000
END:STANDARD
END:VTIMEZONE
BEGIN:VTIMEZONE
TZID:Asia/Dubai
BEGIN:STANDARD
TZOFFSETFROM:+0400
TZOFFSETTO:+0400
TZNAME:+04
DTSTART:20220101T000000
END:STANDARD
END:VTIMEZONE
BEGIN:VTIMEZONE
TZID:UTC
BEGIN:STANDARD
TZOFFSETFROM:+0000
TZOFFSETTO:+0000
TZNAME:UTC
DTSTART:20180101T000000
END:STANDARD
END:VTIMEZONE
BEGIN:VEVENT
DTSTART;TZID=America/New_York:20260314T080000
DTEND;TZID=America/New_York:20260314T130000
DTSTAMP:20260424T231830
CREATED:20250422T224934Z
LAST-MODIFIED:20260211T223352Z
UID:3340-1773475200-1773493200@allamandagardenclub.com
SUMMARY:Huge Plant Sale
DESCRIPTION:Mark your calendars – March 14\, from 8:00 AM to 1:00 PM.\nThe Allamanda Garden Club Plant Sale is an event you don’t want to miss. \nWe specialize in unusual\, hard-to-find plants. \nNEW LOCATION – 3743 Weidman Ave.\, North Port (Off of N. Salford Ave.) \nFind Trees\, Shrubs\, Houseplants\, Perennials\, Native Plants\, Vines\, Succulents\, Books\, Garden Art\, Tools & Supplies. \nAgain\, this year\, we’re stocking up on many \nHARD-TO-FIND TROPICAL PLANTS!!! \nMaster Gardeners will be on hand to assist.
URL:https://allamandagardenclub.com/events/huge-plant-sale/
LOCATION:Deb Dekeulenaere’s Garden\, 3743 Weidman Ave.\, North Port\, FL\, 34286
CATEGORIES:Plant Sale
END:VEVENT
BEGIN:VEVENT
DTSTART;TZID=America/New_York:20250322T080000
DTEND;TZID=America/New_York:20250322T130000
DTSTAMP:20260424T231830
CREATED:20240420T164510Z
LAST-MODIFIED:20250214T212816Z
UID:2887-1742630400-1742648400@allamandagardenclub.com
SUMMARY:HUGE PLANT SALE
DESCRIPTION:Click to see the full-page flyer \nMark your calendars – March 22\, from 8:00 AM to 1:00 PM.\nThe Allamanda Garden Club Plant Sale is an event you don’t want to miss. \nWe specialize in unusual\, hard-to-find plants. \nNEW LOCATION – 3743 Weidman Ave.\, North Port (Off of N. Salford Ave.) \nFind Trees\, Shrubs\, Houseplants\, Perennials\, Native Plants\, Vines\, Succulents\, Books\, Garden Art\, Tools & Supplies. \nAgain\, this year\, we’re stocking up on many \nHARD-TO-FIND TROPICAL PLANTS!!! \nMaster Gardeners will be on hand to assist.
URL:https://allamandagardenclub.com/events/plant-sale/
LOCATION:Deb Dekeulenaere’s Garden\, 3743 Weidman Ave.\, North Port\, FL\, 34286
CATEGORIES:Plant Sale
END:VEVENT
BEGIN:VEVENT
DTSTART;TZID=Asia/Dubai:20240316T080000
DTEND;TZID=Asia/Dubai:20240316T130000
DTSTAMP:20260424T231830
CREATED:20220920T202455Z
LAST-MODIFIED:20240217T143726Z
UID:2304-1710576000-1710594000@allamandagardenclub.com
SUMMARY:Plant and Garden Equipment Sale
DESCRIPTION:The Allamanda Garden Club of North Port will be having a BIG PLANT SALE on March 16 from 8:00 AM to 1:00 PM. The plant sale will be at Jerry and Mary Jo Davis’ yard.\n\n3390 Nansen Lane\, North Port  (Off of S. Cranberry Blvd – behind Cranberry Elementary School) \nFind Trees\, Shrubs\, Houseplants\, Perennials\, Native Plants\, Vines\, Succulents\, Books\, Garden Art\, Tools & Supplies. \nAgain this year we’re stocking up on many \nHARD-TO-FIND TROPICAL PLANTS!!! \nMaster Gardeners will be on hand to assist.
URL:https://allamandagardenclub.com/events/plant-and-garden-equipment-sale-3/
LOCATION:Jerry and Mary Jo Davis’s Yard\, 3390 Nansen Lane\, North Port\, FL\, 34286
CATEGORIES:Plant Sale
END:VEVENT
BEGIN:VEVENT
DTSTART;TZID=America/New_York:20240315T080000
DTEND;TZID=America/New_York:20240315T140000
DTSTAMP:20260424T231830
CREATED:20230703T141837Z
LAST-MODIFIED:20231021T134618Z
UID:2554-1710489600-1710511200@allamandagardenclub.com
SUMMARY:Plant Sale Set-up and Board Meeting
DESCRIPTION:This is the day that all members assist with setting up our annual plant sale. \nMembers only. \nPlease check your email for updates. \nBoard meeting will begin immediately after plant sale set-up – noonish. \nBoard members please bring a chair and a brown bag lunch.
URL:https://allamandagardenclub.com/events/plant-sale-set-up-and-board-meeting-2/
LOCATION:Jerry and Mary Jo Davis’s Yard\, 3390 Nansen Lane\, North Port\, FL\, 34286
CATEGORIES:Board Meeting,Plant Sale
END:VEVENT
BEGIN:VEVENT
DTSTART;TZID=Asia/Dubai:20230317T080000
DTEND;TZID=Asia/Dubai:20230317T150000
DTSTAMP:20260424T231830
CREATED:20220920T201821Z
LAST-MODIFIED:20221110T163330Z
UID:2300-1679040000-1679065200@allamandagardenclub.com
SUMMARY:Plant Sale Set-up and Board Meeting
DESCRIPTION:Please check your email for updates. \nBoard meeting will begin immediately after plant sale set-up – noonish. \nBoard members please bring a chair and a brown bag lunch.
URL:https://allamandagardenclub.com/events/plant-sale-set-up/
LOCATION:Jerry and Mary Jo Davis’s Yard\, 3390 Nansen Lane\, North Port\, FL\, 34286
CATEGORIES:Board Meeting,Plant Sale
END:VEVENT
BEGIN:VEVENT
DTSTART;TZID=America/New_York:20221112T083000
DTEND;TZID=America/New_York:20221112T133000
DTSTAMP:20260424T231830
CREATED:20221101T182335Z
LAST-MODIFIED:20221101T182936Z
UID:2361-1668241800-1668259800@allamandagardenclub.com
SUMMARY:16th Annual Plant Sale and Edfest
DESCRIPTION:Don’t miss this annual plant sale! \nhttps://sfyl.ifas.ufl.edu/sarasota/gardening-and-landscaping/horticulture-residential/master-gardener/plant-sale/
URL:https://allamandagardenclub.com/events/16th-annual-plant-sale-and-edfest/
LOCATION:Twin Lakes Park Extension Office\, 6700 Clark Rd\, Sarasota\, FL\, 34241
CATEGORIES:Plant Sale
END:VEVENT
BEGIN:VEVENT
DTSTART;TZID=UTC:20220319T080000
DTEND;TZID=UTC:20220319T130000
DTSTAMP:20260424T231830
CREATED:20210915T202716Z
LAST-MODIFIED:20220313T160607Z
UID:1917-1647676800-1647694800@allamandagardenclub.com
SUMMARY:Plant and Garden Equipment Sale
DESCRIPTION:The Allamanda Garden Club of North Port will be having a BIG PLANT SALE on March 19 from 8:00 AM to 1:00 PM. The plant sale will be at Jerry and Mary Jo Davis’ yard\,\n3390 Nansen Lane\, North Port  (Off of S. Cranberry Blvd – behind Cranberry Elementary School) \n\nFind Annuals\, Houseplants\, Perennials\, Native Plants\, Vines\, Succulents\, Trees\, Books\, Garden Art\, Tools & Supplies.\nAgain this year we’re stocking up on many \nHARD-TO-FIND TROPICAL PLANTS!!!\nMaster Gardeners will be on hand to assist.\nView the flyer for the plant sale here: \nhttps://allamandagardenclub.com/wp-content/uploads/2021/09/flyer-plant-sale-poster-2022.pdf
URL:https://allamandagardenclub.com/events/plant-and-garden-equipment-sale-2/
LOCATION:Jerry and Mary Jo Davis’s Yard\, 3390 Nansen Lane\, North Port\, FL\, 34286
CATEGORIES:Plant Sale
END:VEVENT
BEGIN:VEVENT
DTSTART;TZID=UTC:20211009T080000
DTEND;TZID=UTC:20211009T170000
DTSTAMP:20260424T231830
CREATED:20210924T211746Z
LAST-MODIFIED:20210924T211916Z
UID:1944-1633766400-1633798800@allamandagardenclub.com
SUMMARY:Sarasota Master Gardener Plant Sale
DESCRIPTION:
URL:https://allamandagardenclub.com/events/sarasota-master-gardener-plant-sale/
LOCATION:Twin Lakes Park Extension Office\, 6700 Clark Rd\, Sarasota\, FL\, 34241
CATEGORIES:Plant Sale
END:VEVENT
BEGIN:VEVENT
DTSTART;TZID=UTC:20210320T080000
DTEND;TZID=UTC:20210320T130000
DTSTAMP:20260424T231830
CREATED:20190807T220446Z
LAST-MODIFIED:20210318T154117Z
UID:1199-1616227200-1616245200@allamandagardenclub.com
SUMMARY:PLANT AND GARDEN EQUIPMENT SALE
DESCRIPTION:The Allamanda Garden Club of North Port will be having a BIG PLANT SALE on March 20th from 8:00 AM to 1:00 PM. 3390 Nansen Lane\, North Port. (Off S. Cranberry Blvd) Find Annuals\, Houseplants\, Perennials\, Native Plants\, Vines\, Succulents\, Trees\, Books\, Garden Art\, Tools & Supplies. This year promises to be extra exciting!  The club is stocking up on many HARD-TO-FIND TROPICAL PLANTS!!! Master Gardeners will be on hand to assist.
URL:https://allamandagardenclub.com/events/plant-and-garden-equipment-sale/
LOCATION:TBA
CATEGORIES:Plant Sale
END:VEVENT
BEGIN:VEVENT
DTSTART;TZID=UTC:20200104T100000
DTEND;TZID=UTC:20200105T160000
DTSTAMP:20260424T231830
CREATED:20190721T192620Z
LAST-MODIFIED:20190802T151840Z
UID:1165-1578132000-1578240000@allamandagardenclub.com
SUMMARY:SARASOTA ORCHID SOCIETY SHOW
DESCRIPTION:“Orchids in Paradise”
URL:https://allamandagardenclub.com/events/sarasota-orchid-society-show/
LOCATION:Sarasota Municipal Auditorium\, 801 N. Tamiami Trail\, Sarasota\, FL
CATEGORIES:Plant Sale
ATTACH;FMTTYPE=image/jpeg:https://allamandagardenclub.com/wp-content/uploads/2018/04/Orchid-e1565199677291.jpg
END:VEVENT
BEGIN:VEVENT
DTSTART;TZID=UTC:20191026T080000
DTEND;TZID=UTC:20191027T170000
DTSTAMP:20260424T231830
CREATED:20191007T213338Z
LAST-MODIFIED:20191007T213338Z
UID:1356-1572076800-1572195600@allamandagardenclub.com
SUMMARY:TROPIFLORA'S ANNUAL FALL FESTIVAL
DESCRIPTION:
URL:https://allamandagardenclub.com/events/tropifloras-annual-fall-festival/
LOCATION:Tropiflora\, 3530 Tallevast Rd.\, Sarasota\, Florida\, 34243
CATEGORIES:Plant Sale
END:VEVENT
BEGIN:VEVENT
DTSTART;TZID=UTC:20191012T080000
DTEND;TZID=UTC:20191012T130000
DTSTAMP:20260424T231830
CREATED:20190721T032545Z
LAST-MODIFIED:20190922T211748Z
UID:1120-1570867200-1570885200@allamandagardenclub.com
SUMMARY:14TH ANNUAL MASTER GARDENER PLANT SALE AND EDFEST
DESCRIPTION:UF/IFAS Extension Sarasota County\nTwin Lakes Park\, Green Building\n6700 Clark Road\, Sarasota\nI-75 Exit 205 – Clark Rd.
URL:https://allamandagardenclub.com/events/14th-annual-master-gardener-plant-sale-and-edfest/
LOCATION:FL
CATEGORIES:Plant Sale
END:VEVENT
END:VCALENDAR