BEGIN:VCALENDAR
VERSION:2.0
PRODID:-//The Allamanda Garden Club of North Port, Florida - ECPv6.15.10//NONSGML v1.0//EN
CALSCALE:GREGORIAN
METHOD:PUBLISH
X-ORIGINAL-URL:https://allamandagardenclub.com
X-WR-CALDESC:Events for The Allamanda Garden Club of North Port, Florida
REFRESH-INTERVAL;VALUE=DURATION:PT1H
X-Robots-Tag:noindex
X-PUBLISHED-TTL:PT1H
BEGIN:VTIMEZONE
TZID:America/New_York
BEGIN:DAYLIGHT
TZOFFSETFROM:-0500
TZOFFSETTO:-0400
TZNAME:EDT
DTSTART:20250309T070000
END:DAYLIGHT
BEGIN:STANDARD
TZOFFSETFROM:-0400
TZOFFSETTO:-0500
TZNAME:EST
DTSTART:20251102T060000
END:STANDARD
BEGIN:DAYLIGHT
TZOFFSETFROM:-0500
TZOFFSETTO:-0400
TZNAME:EDT
DTSTART:20260308T070000
END:DAYLIGHT
BEGIN:STANDARD
TZOFFSETFROM:-0400
TZOFFSETTO:-0500
TZNAME:EST
DTSTART:20261101T060000
END:STANDARD
BEGIN:DAYLIGHT
TZOFFSETFROM:-0500
TZOFFSETTO:-0400
TZNAME:EDT
DTSTART:20270314T070000
END:DAYLIGHT
BEGIN:STANDARD
TZOFFSETFROM:-0400
TZOFFSETTO:-0500
TZNAME:EST
DTSTART:20271107T060000
END:STANDARD
END:VTIMEZONE
BEGIN:VEVENT
DTSTART;TZID=America/New_York:20260211T083000
DTEND;TZID=America/New_York:20260211T150000
DTSTAMP:20260423T180101
CREATED:20260129T233417Z
LAST-MODIFIED:20260129T233417Z
UID:3546-1770798600-1770822000@allamandagardenclub.com
SUMMARY:Field Trip - Palma Sola Botanical Gardens
DESCRIPTION:Our next field trip will be to Palma Sola Botanical Gardens in Bradenton.\n\nIt’s a beautiful 12 acre garden with rare collections of palms\, fruit\, flowering trees and much more!  \nAfterward\, we’ll lunch on beautiful Anna Maria Island!\nPlease join us on Wednesday\, February 11. \nLeaving at 8:30am from the Shannon Staub library.\nIf interested\, please contact Karen Hahn at 715-891-4390.
URL:https://allamandagardenclub.com/events/field-trip-palma-sola-botanical-gardens/
LOCATION:Palma Sola Botanical Park\, 9800 17th Ave NW\, Bradenton\, FL\, 34209\, United States
CATEGORIES:Special Event
END:VEVENT
BEGIN:VEVENT
DTSTART;TZID=America/New_York:20260220T140000
DTEND;TZID=America/New_York:20260220T160000
DTSTAMP:20260423T180101
CREATED:20250422T223258Z
LAST-MODIFIED:20250422T223258Z
UID:3328-1771596000-1771603200@allamandagardenclub.com
SUMMARY:Board Meeting
DESCRIPTION:Board meetings are open to the public.
URL:https://allamandagardenclub.com/events/board-meeting-32/
LOCATION:North Port Public Library\, 13800 Tamiami Trail\, North Port\, FL\, 34287
CATEGORIES:Board Meeting
END:VEVENT
BEGIN:VEVENT
DTSTART;TZID=America/New_York:20260226T113000
DTEND;TZID=America/New_York:20260226T150000
DTSTAMP:20260423T180101
CREATED:20250422T223738Z
LAST-MODIFIED:20251108T195147Z
UID:3330-1772105400-1772118000@allamandagardenclub.com
SUMMARY:Garden Party Scholarship Fundraiser
DESCRIPTION:Join the fun at the Allamanda Garden Club’s Fourth Annual Garden Party Scholarship Fundraiser on Thursday\, February 26th\, at 11:30 AM at the San Pedro Catholic Church. Enjoy a light lunch featuring a variety of croissants\, fruit and vegetable platters\, lovely homemade desserts\, and beverages. The event will feature a large silent raffle\, a 50/50 drawing\, and surprise entertainment! All proceeds support scholarships for students pursuing degrees in agricultural\, horticultural\, or botanical sciences. The Allamanda Garden Club is a 501(c)3. Last year\, we awarded $10\,000 in scholarships! \n Guests will be seated at tables draped in lovely linens and set with beautiful dinnerware. Every table features a different theme! Wear your floral outfits to enhance the festive atmosphere of the garden party! \nThe silent raffle promises to be an exciting and entertaining event. Raffle items include stepping stones\, pottery\, paintings\, garden-related decor\, jewelry\, and gift certificates to local museums\, restaurants\, garden centers\, and cultural events. Almost everyone walks out with a prize! \nTo purchase tickets\, contact JoJo Lucibello. Call (203) 506-3740 or email: jlucibello@msn.com \nTickets are $30. Buy them early! Judging from the popularity of last year’s garden party\, we suspect this year’s event will sell out weeks in advance. No tickets will be sold at the door. \n 
URL:https://allamandagardenclub.com/events/garden-party-scholarship-fundraiser-3/
LOCATION:San Pedro Catholic Church\, 14380 Tamiami Trail\, North Port\, Florida\, 34287
CATEGORIES:Special Event
END:VEVENT
BEGIN:VEVENT
DTSTART;TZID=America/New_York:20260306T100000
DTEND;TZID=America/New_York:20260306T130000
DTSTAMP:20260423T180101
CREATED:20250422T223054Z
LAST-MODIFIED:20260226T231017Z
UID:3326-1772791200-1772802000@allamandagardenclub.com
SUMMARY:Cracked Pot Workshop
DESCRIPTION:Join us for this most requested workshop.\n \nEveryone who has seen one of Deb’s cracked pot planters has wanted one for their own. Now is your chance! Everything you will need to make a one of a kind creation to take home will be supplied. We will be digging in the dirt and working with tools so please bring a pair of work gloves and a chair . If you took this class last year come back and do it again! I guarantee you won’t make the same planter twice.  \nThe workshop is $35 for members. Non-members are $40. Space will be limited to 12 people. No shows or cancellations after March 2nd will not be refunded. If you must cancel\, contact Carrie. \nPlease bring a beverage and a snack and we can enjoy some socializing afterwards. \nChecks are preferable and payable to the Allamanda Garden Club and given or sent to Carrie Murphy\,  5205 Rayfield Drive\, North Port\, FL 34291.
URL:https://allamandagardenclub.com/events/cracked-pot-workshop-2/
LOCATION:Deb Dekeulenaere’s Garden\, 3743 Weidman Ave.\, North Port\, FL\, 34286
CATEGORIES:Workshop
END:VEVENT
BEGIN:VEVENT
DTSTART;TZID=America/New_York:20260314T080000
DTEND;TZID=America/New_York:20260314T130000
DTSTAMP:20260423T180101
CREATED:20250422T224934Z
LAST-MODIFIED:20260211T223352Z
UID:3340-1773475200-1773493200@allamandagardenclub.com
SUMMARY:Huge Plant Sale
DESCRIPTION:Mark your calendars – March 14\, from 8:00 AM to 1:00 PM.\nThe Allamanda Garden Club Plant Sale is an event you don’t want to miss. \nWe specialize in unusual\, hard-to-find plants. \nNEW LOCATION – 3743 Weidman Ave.\, North Port (Off of N. Salford Ave.) \nFind Trees\, Shrubs\, Houseplants\, Perennials\, Native Plants\, Vines\, Succulents\, Books\, Garden Art\, Tools & Supplies. \nAgain\, this year\, we’re stocking up on many \nHARD-TO-FIND TROPICAL PLANTS!!! \nMaster Gardeners will be on hand to assist.
URL:https://allamandagardenclub.com/events/huge-plant-sale/
LOCATION:Deb Dekeulenaere’s Garden\, 3743 Weidman Ave.\, North Port\, FL\, 34286
CATEGORIES:Plant Sale
END:VEVENT
BEGIN:VEVENT
DTSTART;TZID=America/New_York:20260320T100000
DTEND;TZID=America/New_York:20260320T130000
DTSTAMP:20260423T180101
CREATED:20250422T225137Z
LAST-MODIFIED:20260124T224754Z
UID:3342-1774000800-1774011600@allamandagardenclub.com
SUMMARY:Garden Towers
DESCRIPTION:Let’s get together to make some lovely garden towers. \n \nEveryone is going to end up with a distinctly unique design to take home and put in their garden or lanai. \nStart looking through your cabinets and closets and see what you already have on hand. There’s no limit on what you can use. Dishes\, Glassware\, Vases\, Tea pots\, Tea cups\, figurines. Go to thrift stores and look for anything that has a color\, material or shape that appeals to you.  Go with a single color\, clear glass\, a rainbow of colors\, floral designs whatever goes with your personal aesthetic. Many items will work turned upside down so get creative. \nOn the day bring whatever pieces you have found. I will also provide various dishes and vases that can be used. I will also provide the adhesives. \nEveryone is sure to have a blast so sign up soon as spaces are limited to 12 people. \nThe workshop is $25 for members. Non-members are $30. Due to the limited attendance we are going to have to implement a No-show/cancellation policy after March 16th and will not be able to issue refunds. Contact Carrie if you must cancel. \nCash\, Checks and Credit Cards are accepted. Checks should be payable to the Allamanda Garden Club and given or sent to Carrie Murphy\, 5205 Rayfield Drive\, North Port\, FL 34291.
URL:https://allamandagardenclub.com/events/garden-art/
LOCATION:Bev Brue’s Garden\, 6420 Floral Court\, North Port\, FL\, 34287
CATEGORIES:Workshop
END:VEVENT
BEGIN:VEVENT
DTSTART;TZID=America/New_York:20260327T130000
DTEND;TZID=America/New_York:20260327T150000
DTSTAMP:20260423T180101
CREATED:20250422T225517Z
LAST-MODIFIED:20260124T224515Z
UID:3344-1774616400-1774623600@allamandagardenclub.com
SUMMARY:Desert Rose 101 by Deb Dekeulenaere
DESCRIPTION:Looking for a dramatic low-water plant? \n \nTry a desert rose! \nThis sun-loving plant may be the perfect plant for you – a drought-tolerant succulent plant (Adenium obesum) with vibrant\, trumpet-shaped flowers and a swollen trunk that is prized for their unique one of a kind characteristics.  \nDeb Dekeulenaere will demonstrate how to repot and rehab your desert rose for SW Florida. She’ll also discuss local resources\, supplies\, and potting mixes.
URL:https://allamandagardenclub.com/events/member-meeting-presentation-by-deb-dekeulenaere/
LOCATION:North Port Public Library\, 13800 Tamiami Trail\, North Port\, FL\, 34287
CATEGORIES:Monthly meeting
END:VEVENT
BEGIN:VEVENT
DTSTART;TZID=America/New_York:20260410T100000
DTEND;TZID=America/New_York:20260410T130000
DTSTAMP:20260423T180101
CREATED:20250422T230035Z
LAST-MODIFIED:20260319T213029Z
UID:3346-1775815200-1775826000@allamandagardenclub.com
SUMMARY:Stepping Stone Workshop
DESCRIPTION:Join us for this very popular workshop. We will make 12 x 12 mosaic stepping stones for your garden. The paver\, glue\, grout\, glass\, and mosaic tiles will be provided. Come with a design in mind\, or you may be inspired by the examples we have on hand. \n \nThis will be a two-part workshop as the glue will need time to cure. We will grout the next day\, April 11th. \nWe will be working with silicon-based glue and colored grout\, so you may want to wear an apron or old clothes\, as we will be getting messy! Please bring disposable gloves\, like dishwashing gloves and a few old towels.\nIt is always a fun time\, and everyone always leaves with an amazing piece of artwork. The workshop is $30 for members. Non-members are $35. This workshop is already full\, and we have a waitlist. \nContact Carrie if you must cancel. Due to limited attendance\, we will implement a No-show/cancellation policy after March 30th\, and we will not issue refunds. Checks are preferred and payable to the Allamanda Garden Club\, and should be given or sent to Carrie Murphy\, 5205 Rayfield Drive\, North Port\, FL 34291. \n \n  \n 
URL:https://allamandagardenclub.com/events/stepping-stone-workshop-2/
LOCATION:Lisa’s House\, 2210 Viera St.\, North Port\, FL\, 34286
CATEGORIES:Workshop
ORGANIZER;CN="Lisa Colburn":MAILTO:info@AllamandaGardenClub.com
END:VEVENT
BEGIN:VEVENT
DTSTART;TZID=America/New_York:20260417T140000
DTEND;TZID=America/New_York:20260417T153000
DTSTAMP:20260423T180101
CREATED:20250422T230329Z
LAST-MODIFIED:20250924T155320Z
UID:3349-1776434400-1776439800@allamandagardenclub.com
SUMMARY:Board Meeting
DESCRIPTION:Board meetings are open to the public.
URL:https://allamandagardenclub.com/events/board-meeting-33/
LOCATION:North Port Public Library\, 13800 Tamiami Trail\, North Port\, FL\, 34287
CATEGORIES:Board Meeting
END:VEVENT
BEGIN:VEVENT
DTSTART;TZID=America/New_York:20260423T120000
DTEND;TZID=America/New_York:20260423T150000
DTSTAMP:20260423T180101
CREATED:20250422T230613Z
LAST-MODIFIED:20260320T134113Z
UID:3351-1776945600-1776956400@allamandagardenclub.com
SUMMARY:60th Anniversary Celebration
DESCRIPTION:Mark your calendars for our 60th Anniversary Celebration on Thursday\, March 23rd @ 12:00 Noon. Please note the location has been changed to the Heron Creek Country Club\, 5301 Heron Creek Blvd.\, North Port. The meal will be a lovely salad bar. It will include a roll\, soup\, a nice assortment of salads\, non-alcoholic beverages\, and desserts. \nThe cost is slightly more than $25 per person\, but the board voted to cover the additional cost\, gratuity\, and the meals for the few dignitaries and scholarship winners who may attend\, possibly another 10 people\, approximately $250 to $300. \nWe must give Heron Creek a head count\, so we’re asking everyone to pay $25 for their meal at Friday’s meeting. If you can’t attend the meeting\, please mail your check to JoJo Lucibello\, 2924 Maximo Rd.\, North Port\, FL 34286. We must have received your RSVP with payment by March 10\, 2026.
URL:https://allamandagardenclub.com/events/spring-luncheon-and-60th-anniversary-celebration/
LOCATION:Heron Creek Country Club\, 5301 Heron Creek Blvd\, North Port\, FL\, 34287
CATEGORIES:Monthly meeting,Special Event
END:VEVENT
BEGIN:VEVENT
DTSTART;TZID=America/New_York:20260515T140000
DTEND;TZID=America/New_York:20260515T153000
DTSTAMP:20260423T180101
CREATED:20250422T230754Z
LAST-MODIFIED:20250422T230844Z
UID:3353-1778853600-1778859000@allamandagardenclub.com
SUMMARY:Board Meeting
DESCRIPTION:This will be a Zoom meeting. \nBoard meeting are open to the public. If you would like to attend\, please request a link through our website.
URL:https://allamandagardenclub.com/events/board-meeting-34/
LOCATION:FL
CATEGORIES:Board Meeting
END:VEVENT
BEGIN:VEVENT
DTSTART;TZID=America/New_York:20260522T120000
DTEND;TZID=America/New_York:20260522T120000
DTSTAMP:20260423T180101
CREATED:20250422T231145Z
LAST-MODIFIED:20250924T155723Z
UID:3356-1779451200-1779451200@allamandagardenclub.com
SUMMARY:Potluck and Plant Exchange
DESCRIPTION:Please mark your calendars for our next meeting on May 22nd at 12:00 PM at the North Port Library\, located on Tamiami Trail. This meeting will begin with a potluck lunch. Please bring something to share that requires no heating. (Finger-foods\, appetizers\, or desserts). Please bring your own beverage. \nThis meeting will feature a plant exchange. Bring a potted plant from your yard to contribute to the exchange. Be prepared to talk about the plant – what it is and how to care for it. \nPlease note the earlier time for this meeting!
URL:https://allamandagardenclub.com/events/potluck-and-plant-exchange-3/
LOCATION:North Port Public Library\, 13800 Tamiami Trail\, North Port\, FL\, 34287
CATEGORIES:Monthly meeting
END:VEVENT
END:VCALENDAR