BEGIN:VCALENDAR
VERSION:2.0
PRODID:-//The Allamanda Garden Club of North Port, Florida - ECPv6.15.10//NONSGML v1.0//EN
CALSCALE:GREGORIAN
METHOD:PUBLISH
X-WR-CALNAME:The Allamanda Garden Club of North Port, Florida
X-ORIGINAL-URL:https://allamandagardenclub.com
X-WR-CALDESC:Events for The Allamanda Garden Club of North Port, Florida
REFRESH-INTERVAL;VALUE=DURATION:PT1H
X-Robots-Tag:noindex
X-PUBLISHED-TTL:PT1H
BEGIN:VTIMEZONE
TZID:UTC
BEGIN:STANDARD
TZOFFSETFROM:+0000
TZOFFSETTO:+0000
TZNAME:UTC
DTSTART:20170101T000000
END:STANDARD
END:VTIMEZONE
BEGIN:VEVENT
DTSTART;TZID=UTC:20200221T140000
DTEND;TZID=UTC:20200221T160000
DTSTAMP:20260425T124407
CREATED:20190808T193100Z
LAST-MODIFIED:20190808T233935Z
UID:1237-1582293600-1582300800@allamandagardenclub.com
SUMMARY:BOARD MEETING
DESCRIPTION:All members are welcome to attend our board meetings.
URL:https://allamandagardenclub.com/events/board-meeting-11/
LOCATION:North Port Public Library\, 13800 Tamiami Trail\, North Port\, FL\, 34287
CATEGORIES:Board Meeting
END:VEVENT
BEGIN:VEVENT
DTSTART;VALUE=DATE:20200213
DTEND;VALUE=DATE:20200214
DTSTAMP:20260425T124408
CREATED:20191009T222505Z
LAST-MODIFIED:20191009T224047Z
UID:1375-1581552000-1581638399@allamandagardenclub.com
SUMMARY:CLUB TRIP TO THE SUNKEN GARDENS & A CULINARY ADVENTURE
DESCRIPTION:We’re joining All Around Bus Tours for a trip to the Sunken Gardens in St. Petersburg\, a botanical paradise in the midst of a bustling city. As St. Petersburg’s oldest living museum\, this 100-year-old garden is home to some of the oldest tropical plants in the region.  Unwind as you stroll through meandering paths\, lush with exotic plants from around the world. Explore cascading waterfalls\, beautiful demonstration gardens\, more than 50\,000 tropical plants\, and flowers.  After the Gardens enjoy an elegant lunch at Park Shore Grill and to “top” off your day the views from The Canopy (roof top) at the Birchwood Inn can’t be beat as you enjoy your dessert.\nTour INCLUDES : Bus transportation\, admission to the garden\, lunch and dessert on the roof top.\n$75 to be paid by designated date directly to the tour company. Call (941-488-9393)\n 
URL:https://allamandagardenclub.com/events/club-trip-to-the-sunken-gardens-a-culinary-adventure/
LOCATION:Florida
CATEGORIES:Club trip
ATTACH;FMTTYPE=image/jpeg:https://allamandagardenclub.com/wp-content/uploads/2017/07/Slider-2-e1570645824265.jpg
ORGANIZER;CN="Christy Glenn":MAILTO:gardenglenn1@gmail.com
END:VEVENT
BEGIN:VEVENT
DTSTART;TZID=UTC:20200201T080000
DTEND;TZID=UTC:20200201T170000
DTSTAMP:20260425T124408
CREATED:20190802T152745Z
LAST-MODIFIED:20190802T152835Z
UID:1179-1580544000-1580576400@allamandagardenclub.com
SUMMARY:VENICE AREA ORCHID SOCIETY ORCHID SHOW
DESCRIPTION:FEBRUARY 2020 \nCorrect time and date to be announced soon. \n  For more information go to: https://www.vaos.org \n            326 S. Nokomis Ave.\, Venice
URL:https://allamandagardenclub.com/events/venice-area-orchid-society-orchid-show/
LOCATION:Florida
CATEGORIES:Flower Show
ATTACH;FMTTYPE=image/jpeg:https://allamandagardenclub.com/wp-content/uploads/2018/04/Orchid-e1565199677291.jpg
END:VEVENT
BEGIN:VEVENT
DTSTART;TZID=UTC:20200131T080000
DTEND;TZID=UTC:20200131T170000
DTSTAMP:20260425T124408
CREATED:20190802T152415Z
LAST-MODIFIED:20190802T152415Z
UID:1177-1580457600-1580490000@allamandagardenclub.com
SUMMARY:MANATEE RIVER GARDEN CLUB FLOWER SHOW – “20/20 VISION”
DESCRIPTION:JANUARY 31 – FEBRURARY 2\, 2020 \n\nMANATEE RIVER GARDEN CLUB FLOWER SHOW – “20/20 VISION” \n3120 1stAve. W.\, Bradenton \nMore information at: https://www.manateerivergardenclub.com
URL:https://allamandagardenclub.com/events/manatee-river-garden-club-flower-show-20-20-vision/
LOCATION:Florida
CATEGORIES:Flower Show
ATTACH;FMTTYPE=image/png:https://allamandagardenclub.com/wp-content/uploads/2019/07/MG_3443.png
END:VEVENT
BEGIN:VEVENT
DTSTART;TZID=UTC:20200130T090000
DTEND;TZID=UTC:20200130T160000
DTSTAMP:20260425T124408
CREATED:20191009T220715Z
LAST-MODIFIED:20200129T224754Z
UID:1370-1580374800-1580400000@allamandagardenclub.com
SUMMARY:CLUB TRIP TO VISIT GARDEN CENTERS
DESCRIPTION:Join us for a visit to two outstanding garden centers.\nOur first stop will be Florida Native Plants Nursery and Garden Center\nand then we’ll head to Crowley’s Nursery and Gardens\nLunch will be at Gecko’s\, 5585 Palmer Crossing Circle\, Sarasota\nWe’ll be carpooling. Meet in the Walmart parking lot at 9:00am. We’ll leave by 9:15am.
URL:https://allamandagardenclub.com/events/club-trip-to-visit-garden-centers/
LOCATION:Florida Native Plants Nursery\, 730 Myakka Rd.\, Sarasota\, FL\, 34240
CATEGORIES:Club trip
ATTACH;FMTTYPE=image/jpeg:https://allamandagardenclub.com/wp-content/uploads/2017/07/Slider-2-e1570645824265.jpg
ORGANIZER;CN="Christy Glenn":MAILTO:gardenglenn1@gmail.com
END:VEVENT
BEGIN:VEVENT
DTSTART;TZID=UTC:20200124T130000
DTEND;TZID=UTC:20200124T160000
DTSTAMP:20260425T124408
CREATED:20190802T015946Z
LAST-MODIFIED:20200103T214116Z
UID:1169-1579870800-1579881600@allamandagardenclub.com
SUMMARY:TROPICAL FERNS
DESCRIPTION:Gil MacAdam\, a tropical fern expert\, will talk about the wide world of tropical and semi-tropical ferns (terrestrial as well as epiphytic) that can be grown in Florida. Gil has a particular passion for staghorn ferns. He will have a number of tropical plants for sale – one that is particularly difficult to find: Pavonia bahamensis\, known as a hummingbird magnet!\nGil MacAdam is a graduate of Kent State and worked as a Naturalist and Environmental Administrator for the Broward County Park System for 33 years.
URL:https://allamandagardenclub.com/events/tropical-ferns/
LOCATION:Trinity United Methodist Church\, 4285 Wesley Lane\, North Port\, FL\, 34287
CATEGORIES:Monthly meeting
ATTACH;FMTTYPE=image/jpeg:https://allamandagardenclub.com/wp-content/uploads/2019/08/staghorn-e1565199772586.jpg
END:VEVENT
BEGIN:VEVENT
DTSTART;TZID=UTC:20200117T140000
DTEND;TZID=UTC:20200117T160000
DTSTAMP:20260425T124408
CREATED:20190808T192958Z
LAST-MODIFIED:20191205T034227Z
UID:1235-1579269600-1579276800@allamandagardenclub.com
SUMMARY:BOARD MEETING
DESCRIPTION:All members are welcome to attend our board meetings.
URL:https://allamandagardenclub.com/events/board-meeting-5/
LOCATION:The Olde World Restaurant\, 14415 Tamiami Trail\, North Port\, Florida\, 34287
CATEGORIES:Board Meeting
END:VEVENT
BEGIN:VEVENT
DTSTART;TZID=UTC:20200104T100000
DTEND;TZID=UTC:20200105T160000
DTSTAMP:20260425T124408
CREATED:20190721T192620Z
LAST-MODIFIED:20190802T151840Z
UID:1165-1578132000-1578240000@allamandagardenclub.com
SUMMARY:SARASOTA ORCHID SOCIETY SHOW
DESCRIPTION:“Orchids in Paradise”
URL:https://allamandagardenclub.com/events/sarasota-orchid-society-show/
LOCATION:Sarasota Municipal Auditorium\, 801 N. Tamiami Trail\, Sarasota\, FL
CATEGORIES:Plant Sale
ATTACH;FMTTYPE=image/jpeg:https://allamandagardenclub.com/wp-content/uploads/2018/04/Orchid-e1565199677291.jpg
END:VEVENT
BEGIN:VEVENT
DTSTART;TZID=UTC:20191213T140000
DTEND;TZID=UTC:20191213T160000
DTSTAMP:20260425T124408
CREATED:20190808T192849Z
LAST-MODIFIED:20191205T034032Z
UID:1233-1576245600-1576252800@allamandagardenclub.com
SUMMARY:BOARD MEETING
DESCRIPTION:All members are welcome to attend our board meetings.
URL:https://allamandagardenclub.com/events/board-meeting-4/
LOCATION:The Olde World Restuarant\, 14415 Tamiami Trail\, North Port\, FL
CATEGORIES:Board Meeting
END:VEVENT
BEGIN:VEVENT
DTSTART;TZID=UTC:20191206T114500
DTEND;TZID=UTC:20191206T150000
DTSTAMP:20260425T124408
CREATED:20190721T181250Z
LAST-MODIFIED:20191113T214140Z
UID:1156-1575632700-1575644400@allamandagardenclub.com
SUMMARY:ANNUAL HOLIDAY BASH
DESCRIPTION:Allamanda Garden Club Holiday Luncheon 2019\nFriday\, December 6\, 2019\n11:45 a.m. – 3 pm\nHeron Creek Country Club\n5301 Heron Creek Blvd.\, North Port\, FL\n$25 all-inclusive luncheon\nIncluded\nHouse salad and dressing\, assorted rolls and butter\nChoice of:\n\n\nAtlantic Salmon Dioria made with cucumber dill butter and shrimp\n\n\nCharbroiled Marinated Chicken Breast finished with artichoke hearts\, fresh basil\, grape tomatoes\, in lemon butter\n\n\nVegan Dish – Zoodles tossed in marinara with assorted sautéed vegetables\n\nChef’s Choice of starch and vegetables\nDessert\, Coffee\, tea and soda\, Tax and Tip included\n\n\nLet the gift swapping begin…with a Yankee Gift Swap. To participate in the fun\, you must bring a wrapped\, unmarked gift to exchange. Something you would want to receive.  The gift can be a re-gift\, a nice plant\, beautiful garden pot\, baked goods\, Christmas ornament\, garden tools\, artwork\, or something silly or quirky we can fight over…  Be creative. Suggested $10 to $15 value.\nWe’ll have a RAFFLE for gift baskets\, holiday floral centerpieces\, and….we’ll be drawing the winning ticket for the Gourmet Dinner for Four with Chef Paul!\nSign-up at the meeting in November. Payment of $25 is expected at the meeting. Check made out to Allamanda Garden Club. \n For more information Contact Christy Glenn   941-423-2267   gardenglenn1@gmail.com\nCan’t make the meeting? Mail check and indicate meal selection to: \nChristine Glenn\n5112 Pine Shadow Lane\nNorth Port\, FL  34287\n  \nWhat’s a Yankee Gift Swap? – also called “Dirty Santa” \nSuitable for small to large groups\, adds an element of excitement and humor to traditional gift giving. \nIn a Yankee Swap\, each participant brings a wrapped\, unmarked gift and places it in a designated area. Guests are given numbers as they arrive\, or their names are randomly drawn\, and they select and unwrap gifts from the pile in that order — with a twist. \nThe person who receives the number 1 will pick a gift (that is not their own) from the pile and open it for all to see (or models it\, reads it\, or demos it). During the selection of a wrapped gift\, the participant may visually inspect the gifts\, pick them up and/or gently shake them. \nThe person who receives number 2 then chooses a gift and opens it\, and then must decide whether to keep it or swap it for the first player’s gift. Each person in order then gets to select a present\, open it and decide whether to keep it or swap it for any other gift someone has already opened. \nOpening of gifts and swapping takes place until all the presents have been chosen. Finally\, the person who picked first gets to choose from all the gifts or keep what he/she has already received. In the end\, the gift you are holding is the gift you take home. \nBecause all the gifts are wrapped or in gift bags\, you don’t get people taking the most obvious best gift or leaving the least desirable for last. It also adds an element of surprise! Most of the fun happens as people “steal” gifts from each other! \n  \n 
URL:https://allamandagardenclub.com/events/holiday-party-lunch/
LOCATION:Heron Creek Country Club\, 5301 Heron Creek Blvd\, North Port\, FL\, 34287
CATEGORIES:Monthly meeting,Special Event
ATTACH;FMTTYPE=image/jpeg:https://allamandagardenclub.com/wp-content/uploads/2018/10/holiday-e1573660530138.jpg
ORGANIZER;CN="Christy Glenn":MAILTO:gardenglenn1@gmail.com
END:VEVENT
BEGIN:VEVENT
DTSTART;TZID=UTC:20191206T100000
DTEND;TZID=UTC:20191207T160000
DTSTAMP:20260425T124408
CREATED:20190721T191641Z
LAST-MODIFIED:20190721T192042Z
UID:1161-1575626400-1575734400@allamandagardenclub.com
SUMMARY:PUNTA GORDA GARDEN CLUB HOME TOUR
DESCRIPTION:
URL:https://allamandagardenclub.com/events/punta-gorda-garden-club-home-tour/
LOCATION:Florida
CATEGORIES:Special Event
ATTACH;FMTTYPE=image/jpeg:https://allamandagardenclub.com/wp-content/uploads/2019/07/Cozy-Coastal-Christmas-fireplace-mantel-7524-e1563722406714.jpg
END:VEVENT
BEGIN:VEVENT
DTSTART;VALUE=DATE:20191203
DTEND;VALUE=DATE:20191204
DTSTAMP:20260425T124408
CREATED:20190721T052624Z
LAST-MODIFIED:20190721T052906Z
UID:1153-1575331200-1575417599@allamandagardenclub.com
SUMMARY:GIVING TUESDAY
DESCRIPTION:Giving Tuesday is a global day of giving fueled by the power of social media and collaboration. Celebrated on the Tuesday following Thanksgiving and the widely recognized shopping events Black Friday and Cyber Monday\, Giving Tuesday kicks off the charitable season\, when many focus on their holiday and end-of-year giving. It is sponsored locally by KDW Radioin North Port\, one of the few campaign locations in the state of Florida.\nMoney donated to the Allamanda Garden Club will be used directly for our charitable giving. We make annual charitable donations to Backpack Angels\, Friends of Little Salt Spring\, People for Trees and area food banks. We donate books to local schools and provides financial support to school gardens. Annual scholarships are awarded to college students pursuing degrees in agricultural\, botanical or horticultural areas.
URL:https://allamandagardenclub.com/events/giving-tuesday/
LOCATION:Florida
CATEGORIES:Special Event
END:VEVENT
BEGIN:VEVENT
DTSTART;TZID=UTC:20191123T103000
DTEND;TZID=UTC:20191123T130000
DTSTAMP:20260425T124408
CREATED:20190721T052218Z
LAST-MODIFIED:20190721T052243Z
UID:1147-1574505000-1574514000@allamandagardenclub.com
SUMMARY:CHARLOTTE COUNTY MASTER GARDENER PLANT SALE
DESCRIPTION:Charlotte County Environmental Campus \n25550 Harbor View Road \nPort Charlotte
URL:https://allamandagardenclub.com/events/charlotte-county-master-gardener-plant-salecharlotte-county-environmental-campus-25550-harbor-view-road-port-charlotte/
LOCATION:Charlotte County Extension Office\, 25550 Harbor View Rd Port Charlotte\, Port Charlotte\, FL\, 33980
ATTACH;FMTTYPE=image/jpeg:https://allamandagardenclub.com/wp-content/uploads/2018/09/2015_Hort_PlantSale_1650x470.jpg
END:VEVENT
BEGIN:VEVENT
DTSTART;TZID=UTC:20191122T130000
DTEND;TZID=UTC:20191122T160000
DTSTAMP:20260425T124408
CREATED:20190721T050046Z
LAST-MODIFIED:20191010T202242Z
UID:1144-1574427600-1574438400@allamandagardenclub.com
SUMMARY:THANKSGIVING TABLE ARRANGEMENT
DESCRIPTION:Make a beautiful floral arrangement for your Thanksgiving table. Carol Smith\, a National Garden Club Accredited Flower Show Judge in Maine and Florida will teach us a few tips\, tricks and techniques to create a professional-looking table arrangement for our holiday table. Everyone will go home with a masterpiece.
URL:https://allamandagardenclub.com/events/thanksgiving-table-arrangement/
LOCATION:Trinity United Methodist Church\, 4285 Wesley Lane\, North Port\, FL\, 34287
CATEGORIES:Monthly meeting
END:VEVENT
BEGIN:VEVENT
DTSTART;TZID=UTC:20191115T140000
DTEND;TZID=UTC:20191115T160000
DTSTAMP:20260425T124408
CREATED:20190808T192746Z
LAST-MODIFIED:20190808T192746Z
UID:1231-1573826400-1573833600@allamandagardenclub.com
SUMMARY:BOARD MEETING
DESCRIPTION:All members are welcome to attend our board meetings.
URL:https://allamandagardenclub.com/events/board-meeting-3/
LOCATION:North Port Public Library\, 13800 Tamiami Trail\, North Port\, FL\, 34287
CATEGORIES:Board Meeting
END:VEVENT
BEGIN:VEVENT
DTSTART;TZID=UTC:20191112T090000
DTEND;TZID=UTC:20191112T160000
DTSTAMP:20260425T124408
CREATED:20191009T214138Z
LAST-MODIFIED:20191112T061256Z
UID:1364-1573549200-1573574400@allamandagardenclub.com
SUMMARY:CLUB TRIP TO PEACE RIVER BOTANICAL & SCULPTURE GARDEN
DESCRIPTION:Join us for a guided tour of the Peace River Botanical and Sculpture Garden followed by lunch at the Wyvern Hotel\, 101 E Retta Esplanade in Punta Gorda. https://www.thewyvernhotel.com/eat-drink/\nWe’ll be carpooling to the gardens. Meet in the Walmart parking lot at 9:00 AM and leave by 9:15 AM.\nPlease RSVP to Christy so she can plan garden admission and restaurant reservations.\nAdmission to the gardens  is $9.00.\nLunch on your own.
URL:https://allamandagardenclub.com/events/club-trip-to-peace-river-botanical-sculpture-garden/
LOCATION:Peace River Botanical and Sculpture Garden\, 5827 Riverside Drive\, Punta Gorda\, Florida\, 33982
CATEGORIES:Club trip
ORGANIZER;CN="Christy Glenn":MAILTO:gardenglenn1@gmail.com
END:VEVENT
BEGIN:VEVENT
DTSTART;TZID=UTC:20191111T000000
DTEND;TZID=UTC:20191206T000000
DTSTAMP:20260425T124408
CREATED:20191112T002433Z
LAST-MODIFIED:20191112T003438Z
UID:1410-1573430400-1575590400@allamandagardenclub.com
SUMMARY:GOURMET DINNER WITH CHEF PAUL LUCIBELLO
DESCRIPTION:Win a dinner for four at Chef Paul Lucibello’s home\n     Lobster Tail & Filet Mignon\n      Includes: Appetizers\, Salad\, Vegetables & Dessert\nTo be drawn December 6\, 2019 at our Holiday Bash.\nNeed not be present to win. Tickets are only $10 each!!\nSee any Allamanda Garden Club member to purchase tickets.\n(Winner will be able to arrange the dinner date with Chef Paul.)
URL:https://allamandagardenclub.com/events/gourmet-dinner-with-chef-paul-lucibello/
LOCATION:Florida
END:VEVENT
BEGIN:VEVENT
DTSTART;VALUE=DATE:20191109
DTEND;VALUE=DATE:20191110
DTSTAMP:20260425T124408
CREATED:20190721T043550Z
LAST-MODIFIED:20190721T044112Z
UID:1138-1573257600-1573343999@allamandagardenclub.com
SUMMARY:PLANT CITY GARDEN CLUB FLOWER SHOW
DESCRIPTION:Time and location to be announced.
URL:https://allamandagardenclub.com/events/plant-city-garden-club-flower-show/
LOCATION:Florida
CATEGORIES:Flower Show
ATTACH;FMTTYPE=image/png:https://allamandagardenclub.com/wp-content/uploads/2019/07/MG_3443.png
END:VEVENT
BEGIN:VEVENT
DTSTART;TZID=UTC:20191102T100000
DTEND;TZID=UTC:20191102T120000
DTSTAMP:20260425T124408
CREATED:20190721T041324Z
LAST-MODIFIED:20190721T041456Z
UID:1131-1572688800-1572696000@allamandagardenclub.com
SUMMARY:NORTH PORT NEWCOMER’S DAY
DESCRIPTION:This expo-like event features information tables at the George Mullen Activity Center run by more than 80 community organizations\, government agencies\, and local businesses.
URL:https://allamandagardenclub.com/events/north-port-newcomers-day/
LOCATION:George Mullen Activity Center\, 4950 City Center Blvd.\, North Port\, FL
CATEGORIES:Community Outreach
ATTACH;FMTTYPE=image/jpeg:https://allamandagardenclub.com/wp-content/uploads/2019/07/emily-and-gail-e1599155186848.jpg
END:VEVENT
BEGIN:VEVENT
DTSTART;TZID=UTC:20191029T170000
DTEND;TZID=UTC:20191029T190000
DTSTAMP:20260425T124408
CREATED:20190721T035654Z
LAST-MODIFIED:20191010T011346Z
UID:1128-1572368400-1572375600@allamandagardenclub.com
SUMMARY:COCKTAILS IN THE GARDEN
DESCRIPTION:Janet McMahon will host our next Cocktails in the Garden at her home\, 3275 Hyannis Ave.\, North Port\nJoin us for refreshments and garden inspiration!\nJanet’s yard has a mixture of Florida Friendly plants\, both ornamental and native\, with a focus on plants that attract and provide food for pollinators\, butterflies\, birds and other wildlife. Plants include Firespike\, Firebush\, Wild Coffee\, Cocoplum\, Beautyberry\, Sea Grape\, Plumbago\, Panama Rose\, Bottlebrush\, Jatropha\, Pentas and several varieties of Ginger and Gardenia\, under a canopy of Oaks\, Pines and Sabal Palms. She also has a collection of orchids. Her yard has been certified as a wildlife habitat by the National Wildlife Federation\, and she hopes it will qualify soon as a Florida Friendly Landscape.\nCocktails in the Garden has been a popular event where we get to know each other a little bit better.\nIt’s for members only and spouses are encouraged to attend.\nMembers please provide your favorite beverage.\n 
URL:https://allamandagardenclub.com/events/cocktails-in-the-garden-4/
LOCATION:Florida
CATEGORIES:Special Event
ATTACH;FMTTYPE=image/jpeg:https://allamandagardenclub.com/wp-content/uploads/2018/04/3551085-glass-of-white-wine-set-in-a-tropical-garden.jpg
END:VEVENT
BEGIN:VEVENT
DTSTART;TZID=UTC:20191026T080000
DTEND;TZID=UTC:20191027T170000
DTSTAMP:20260425T124408
CREATED:20191007T213338Z
LAST-MODIFIED:20191007T213338Z
UID:1356-1572076800-1572195600@allamandagardenclub.com
SUMMARY:TROPIFLORA'S ANNUAL FALL FESTIVAL
DESCRIPTION:
URL:https://allamandagardenclub.com/events/tropifloras-annual-fall-festival/
LOCATION:Tropiflora\, 3530 Tallevast Rd.\, Sarasota\, Florida\, 34243
CATEGORIES:Plant Sale
END:VEVENT
BEGIN:VEVENT
DTSTART;TZID=UTC:20191025T130000
DTEND;TZID=UTC:20191025T160000
DTSTAMP:20260425T124408
CREATED:20190721T032936Z
LAST-MODIFIED:20190816T013553Z
UID:1123-1572008400-1572019200@allamandagardenclub.com
SUMMARY:TROPICAL BONSAI
DESCRIPTION:Rick Johnstone will return for an encore presentation to discuss and demonstrate how to create\, grow\, shape and maintain bonsai. He is a member of Port Charlotte Ichiban Bonsai Kai\, a local bonsai club.\nhttps://www.facebook.com/Port-Charlotte-Ichiban-Bonsai-Kai-240554489298500/\nRick will have plants available for purchase.
URL:https://allamandagardenclub.com/events/tropical-bonsai/
LOCATION:Trinity United Methodist Church\, 4285 Wesley Lane\, North Port\, FL\, 34287
CATEGORIES:Monthly meeting
END:VEVENT
BEGIN:VEVENT
DTSTART;TZID=UTC:20191012T080000
DTEND;TZID=UTC:20191012T130000
DTSTAMP:20260425T124408
CREATED:20190721T032545Z
LAST-MODIFIED:20190922T211748Z
UID:1120-1570867200-1570885200@allamandagardenclub.com
SUMMARY:14TH ANNUAL MASTER GARDENER PLANT SALE AND EDFEST
DESCRIPTION:UF/IFAS Extension Sarasota County\nTwin Lakes Park\, Green Building\n6700 Clark Road\, Sarasota\nI-75 Exit 205 – Clark Rd.
URL:https://allamandagardenclub.com/events/14th-annual-master-gardener-plant-sale-and-edfest/
LOCATION:Florida
CATEGORIES:Plant Sale
END:VEVENT
BEGIN:VEVENT
DTSTART;TZID=UTC:20191009T000000
DTEND;TZID=UTC:20191009T000000
DTSTAMP:20260425T124408
CREATED:20191009T213431Z
LAST-MODIFIED:20191010T011242Z
UID:1360-1570579200-1570579200@allamandagardenclub.com
SUMMARY:CLUB TRIP TO THE PEACE RIVER BOTANICAL & SCULPTURE GARDENS
DESCRIPTION:Join us for a guided tour of the Peace River Botanical & Sculpture Gardens \nfollowed by lunch  at Perch 360 at the Wyvern Hotel in Punta Gorda\nWe will be carpooling. Meet at the Walmart parking lot at 9:30am. We plan to leave by 9:40am.\nPlease RSVP to Christy so we know how many people will be attending.\nAdmission to the gardens $9.00. \nLunch on your own.
URL:https://allamandagardenclub.com/events/club-trip-to-the-peace-river-botanical-sculpture-gardens/
LOCATION:Florida
CATEGORIES:Club trip
END:VEVENT
BEGIN:VEVENT
DTSTART;TZID=UTC:20190920T140000
DTEND;TZID=UTC:20190920T160000
DTSTAMP:20260425T124408
CREATED:20190808T192423Z
LAST-MODIFIED:20190808T195845Z
UID:1227-1568988000-1568995200@allamandagardenclub.com
SUMMARY:BOARD MEETING
DESCRIPTION:All members are welcome to attend our board meetings.
URL:https://allamandagardenclub.com/events/board-meeting/
LOCATION:North Port Public Library\, 13800 Tamiami Trail\, North Port\, FL\, 34287
CATEGORIES:Board Meeting
END:VEVENT
BEGIN:VEVENT
DTSTART;TZID=UTC:20181207T130000
DTEND;TZID=UTC:20181207T160000
DTSTAMP:20260425T124408
CREATED:20181108T200933Z
LAST-MODIFIED:20181108T200933Z
UID:455-1544187600-1544198400@allamandagardenclub.com
SUMMARY:Christmas in Paradise
DESCRIPTION:Join us for our “Christmas in Paradise” Flower Show.\nOur gifted members will create award-winning\, holiday-inspired arrangements filled with fresh and exciting designs.\nSee a wide selection of container plants and horticultural specimens.\nHelp us choose the People’s Choice Award!\nThis is a fascinating event for anyone interested in Florida gardening.
URL:https://allamandagardenclub.com/events/christmas-in-paradise/
LOCATION:Trinity United Methodist Church\, 4285 Wesley Lane\, North Port\, FL\, 34287
CATEGORIES:Special Event
ATTACH;FMTTYPE=image/jpeg:https://allamandagardenclub.com/wp-content/uploads/2018/11/smaller-background.jpg
END:VEVENT
BEGIN:VEVENT
DTSTART;VALUE=DATE:20180427
DTEND;VALUE=DATE:20180428
DTSTAMP:20260425T124408
CREATED:20170822T045856Z
LAST-MODIFIED:20180406T031218Z
UID:193-1524787200-1524873599@allamandagardenclub.com
SUMMARY:Our Flower Show "Garden Art"
DESCRIPTION:Flower shows are opportunities to express your creativity. Enter a flower arrangement or horticultural specimens from your yard.\nThis year we’ll use floral designs to interpret original artwork from the North Port Art Center.\nEveryone is a winner!\nOpen to the public.\nFor members who wish to access the show schedule\, click on the following links: \nFS18.overviewF \nfs.schedule18.overviewf
URL:https://allamandagardenclub.com/events/our-flower-show/
LOCATION:Trinity United Methodist Church\, 4285 Wesley Lane\, North Port\, FL\, 34287
CATEGORIES:Special Event
ATTACH;FMTTYPE=image/jpeg:https://allamandagardenclub.com/wp-content/uploads/2017/08/Art-in-Bloom-FLOWER-SHOW.jpg
END:VEVENT
END:VCALENDAR