BEGIN:VCALENDAR
VERSION:2.0
PRODID:-//The Allamanda Garden Club of North Port, Florida - ECPv6.15.10//NONSGML v1.0//EN
CALSCALE:GREGORIAN
METHOD:PUBLISH
X-WR-CALNAME:The Allamanda Garden Club of North Port, Florida
X-ORIGINAL-URL:https://allamandagardenclub.com
X-WR-CALDESC:Events for The Allamanda Garden Club of North Port, Florida
REFRESH-INTERVAL;VALUE=DURATION:PT1H
X-Robots-Tag:noindex
X-PUBLISHED-TTL:PT1H
BEGIN:VTIMEZONE
TZID:America/New_York
BEGIN:DAYLIGHT
TZOFFSETFROM:-0500
TZOFFSETTO:-0400
TZNAME:EDT
DTSTART:20240310T070000
END:DAYLIGHT
BEGIN:STANDARD
TZOFFSETFROM:-0400
TZOFFSETTO:-0500
TZNAME:EST
DTSTART:20241103T060000
END:STANDARD
BEGIN:DAYLIGHT
TZOFFSETFROM:-0500
TZOFFSETTO:-0400
TZNAME:EDT
DTSTART:20250309T070000
END:DAYLIGHT
BEGIN:STANDARD
TZOFFSETFROM:-0400
TZOFFSETTO:-0500
TZNAME:EST
DTSTART:20251102T060000
END:STANDARD
BEGIN:DAYLIGHT
TZOFFSETFROM:-0500
TZOFFSETTO:-0400
TZNAME:EDT
DTSTART:20260308T070000
END:DAYLIGHT
BEGIN:STANDARD
TZOFFSETFROM:-0400
TZOFFSETTO:-0500
TZNAME:EST
DTSTART:20261101T060000
END:STANDARD
END:VTIMEZONE
BEGIN:VEVENT
DTSTART;TZID=America/New_York:20250307T100000
DTEND;TZID=America/New_York:20250307T130000
DTSTAMP:20260425T061900
CREATED:20240710T171756Z
LAST-MODIFIED:20250221T232308Z
UID:2984-1741341600-1741352400@allamandagardenclub.com
SUMMARY:Spring Flower Arrangement
DESCRIPTION:Join us this spring for a beautiful flower arranging workshop!\nKathy Frampton\, a gifted florist and designer is going to teach us how to make this beautiful flower arrangement. Come learn how to create this arrangement that you can take home and use as your springtime centerpiece. We will supply all the flowers and the container. All you will need are some scissors or pruning shears and a chair. If you’d like to add a ribbon to your creation\, feel free to bring some along. \nThe workshop is $30 for members. Non-members are $35. Please sign up as soon as possible as space will be limited to 12 people.  Due to the limited attendance we are going to have to implement a No-show/cancellation policy after March 1st and will not be able to issue refunds. Contact Carrie if you must cancel.
URL:https://allamandagardenclub.com/events/spring-flower-arrangement/
LOCATION:Bev Brue’s Garden\, 6420 Floral Court\, North Port\, FL\, 34287
CATEGORIES:Workshop
END:VEVENT
BEGIN:VEVENT
DTSTART;TZID=America/New_York:20250321T080000
DTEND;TZID=America/New_York:20250321T150000
DTSTAMP:20260425T061900
CREATED:20240420T164242Z
LAST-MODIFIED:20240420T164242Z
UID:2885-1742544000-1742569200@allamandagardenclub.com
SUMMARY:Plant Sale Set up and Board Meeting
DESCRIPTION:
URL:https://allamandagardenclub.com/events/plant-sale-set-up-and-board-meeting-3/
LOCATION:FL
CATEGORIES:Board Meeting
END:VEVENT
BEGIN:VEVENT
DTSTART;TZID=America/New_York:20250322T080000
DTEND;TZID=America/New_York:20250322T130000
DTSTAMP:20260425T061900
CREATED:20240420T164510Z
LAST-MODIFIED:20250214T212816Z
UID:2887-1742630400-1742648400@allamandagardenclub.com
SUMMARY:HUGE PLANT SALE
DESCRIPTION:Click to see the full-page flyer \nMark your calendars – March 22\, from 8:00 AM to 1:00 PM.\nThe Allamanda Garden Club Plant Sale is an event you don’t want to miss. \nWe specialize in unusual\, hard-to-find plants. \nNEW LOCATION – 3743 Weidman Ave.\, North Port (Off of N. Salford Ave.) \nFind Trees\, Shrubs\, Houseplants\, Perennials\, Native Plants\, Vines\, Succulents\, Books\, Garden Art\, Tools & Supplies. \nAgain\, this year\, we’re stocking up on many \nHARD-TO-FIND TROPICAL PLANTS!!! \nMaster Gardeners will be on hand to assist.
URL:https://allamandagardenclub.com/events/plant-sale/
LOCATION:Deb Dekeulenaere’s Garden\, 3743 Weidman Ave.\, North Port\, FL\, 34286
CATEGORIES:Plant Sale
END:VEVENT
BEGIN:VEVENT
DTSTART;TZID=America/New_York:20250328T130000
DTEND;TZID=America/New_York:20250328T150000
DTSTAMP:20260425T061900
CREATED:20240524T221115Z
LAST-MODIFIED:20250221T233719Z
UID:2944-1743166800-1743174000@allamandagardenclub.com
SUMMARY:The Good\, the Bad and the Ugly presented by Alice White
DESCRIPTION:Please note the change in location for this month’s meeting. We will meet in the Veranda Room at North Port Library. \nAlice White’s PowerPoint presentation discusses the BEST native trees to plant in an area (the good)\, trees that are NOT RECOMMENDED (the bad)\, and the tree that are PROHIBITED/ABSOLUTELY NOT RECOMMENDED to plant (the ugly).
URL:https://allamandagardenclub.com/events/member-meeting-5/
LOCATION:North Port Public Library\, 13800 Tamiami Trail\, North Port\, FL\, 34287
CATEGORIES:Monthly meeting
END:VEVENT
END:VCALENDAR