BEGIN:VCALENDAR
VERSION:2.0
PRODID:-//The Allamanda Garden Club of North Port, Florida - ECPv6.15.10//NONSGML v1.0//EN
CALSCALE:GREGORIAN
METHOD:PUBLISH
X-ORIGINAL-URL:https://allamandagardenclub.com
X-WR-CALDESC:Events for The Allamanda Garden Club of North Port, Florida
REFRESH-INTERVAL;VALUE=DURATION:PT1H
X-Robots-Tag:noindex
X-PUBLISHED-TTL:PT1H
BEGIN:VTIMEZONE
TZID:America/New_York
BEGIN:DAYLIGHT
TZOFFSETFROM:-0500
TZOFFSETTO:-0400
TZNAME:EDT
DTSTART:20240310T070000
END:DAYLIGHT
BEGIN:STANDARD
TZOFFSETFROM:-0400
TZOFFSETTO:-0500
TZNAME:EST
DTSTART:20241103T060000
END:STANDARD
BEGIN:DAYLIGHT
TZOFFSETFROM:-0500
TZOFFSETTO:-0400
TZNAME:EDT
DTSTART:20250309T070000
END:DAYLIGHT
BEGIN:STANDARD
TZOFFSETFROM:-0400
TZOFFSETTO:-0500
TZNAME:EST
DTSTART:20251102T060000
END:STANDARD
BEGIN:DAYLIGHT
TZOFFSETFROM:-0500
TZOFFSETTO:-0400
TZNAME:EDT
DTSTART:20260308T070000
END:DAYLIGHT
BEGIN:STANDARD
TZOFFSETFROM:-0400
TZOFFSETTO:-0500
TZNAME:EST
DTSTART:20261101T060000
END:STANDARD
END:VTIMEZONE
BEGIN:VEVENT
DTSTART;TZID=America/New_York:20251203T120000
DTEND;TZID=America/New_York:20251203T150000
DTSTAMP:20260423T195141
CREATED:20250422T221704Z
LAST-MODIFIED:20251109T151428Z
UID:3317-1764763200-1764774000@allamandagardenclub.com
SUMMARY:Holiday Party
DESCRIPTION:Allamanda Garden Club\nHoliday Luncheon – 2025 \nJoin us at the beautiful Charlotte Harbor Yacht Club for our Annual Holiday Luncheon. \nLet the Gift Swapping begin…with a Deal or Steal Gift Swap. To participate in the fun\, you must bring a wrapped gift\, preferably in an unmarked gift bag – $20 value. Please bring something you would want to receive yourself: a lovely plant\, a beautiful garden pot\, baked goods\, a Christmas ornament\, garden tools\, artwork\, or something silly or quirky we can fight over. Try to be creative! \nPlease RSVP directly to JoJo so she can let the restaurant know how many will attend. \nFor more information contact JoJo Lucibello\, (203) 506-3740  jlucibello@msn.com\nor Terri Day\, (317) 908-8699 terriday@sbcglobal.net 
URL:https://allamandagardenclub.com/events/holiday-party-3/
LOCATION:Charlotte Harbor Yacht Club\, 4400 Lister St\, \, FL\, Port Charlotte\, FL\, 33952\, United States
CATEGORIES:Special Event
END:VEVENT
BEGIN:VEVENT
DTSTART;TZID=America/New_York:20251212T100000
DTEND;TZID=America/New_York:20251212T130000
DTSTAMP:20260423T195141
CREATED:20250422T220304Z
LAST-MODIFIED:20250814T154154Z
UID:3306-1765533600-1765544400@allamandagardenclub.com
SUMMARY:Holiday Centerpiece Workshop
DESCRIPTION:Join us for a fun and festive Christmas workshop. We will be making a centerpiece of three glass cylinders filled with seasonal greenery and décor and topped with a floating candle. The modern and elegant clear glass vase grouping will be a wonderful centerpiece showstopper for your holiday table. \nWe will learn how to fill the vases with clear water beads so that the holiday greenery\, pinecones\, berries\, and decorations will be suspended in place within the vase. We will top each vase with a floating candle. The three vases will be placed on a charger that everyone can decorate according to their tastes. All materials will be included\, but please feel free to bring greens\, tiny pine cones\, berries\, leaves\, or any other seasonal items you would like to use or share. \n  \nEveryone is sure to have a blast\, so sign up soon as spaces are limited to 12 people. \nThe workshop is $30 for members. Non-members are $35. Due to the limited attendance\, we will implement a No-show/cancellation policy after December 8th\, and we will not be able to issue refunds. Contact Carrie if you must cancel. \nChecks are preferable and payable to the Allamanda Garden Club and given or sent to Carrie Murphy\, 5205 Rayfield Drive\, North Port\, FL 34291.
URL:https://allamandagardenclub.com/events/holiday-centerpiece-workshop/
LOCATION:Bev Brue’s Garden\, 6420 Floral Court\, North Port\, FL\, 34287
CATEGORIES:Workshop
END:VEVENT
END:VCALENDAR