BEGIN:VCALENDAR
VERSION:2.0
PRODID:-//The Allamanda Garden Club of North Port, Florida - ECPv6.15.10//NONSGML v1.0//EN
CALSCALE:GREGORIAN
METHOD:PUBLISH
X-WR-CALNAME:The Allamanda Garden Club of North Port, Florida
X-ORIGINAL-URL:https://allamandagardenclub.com
X-WR-CALDESC:Events for The Allamanda Garden Club of North Port, Florida
REFRESH-INTERVAL;VALUE=DURATION:PT1H
X-Robots-Tag:noindex
X-PUBLISHED-TTL:PT1H
BEGIN:VTIMEZONE
TZID:America/New_York
BEGIN:DAYLIGHT
TZOFFSETFROM:-0500
TZOFFSETTO:-0400
TZNAME:EDT
DTSTART:20230312T070000
END:DAYLIGHT
BEGIN:STANDARD
TZOFFSETFROM:-0400
TZOFFSETTO:-0500
TZNAME:EST
DTSTART:20231105T060000
END:STANDARD
BEGIN:DAYLIGHT
TZOFFSETFROM:-0500
TZOFFSETTO:-0400
TZNAME:EDT
DTSTART:20240310T070000
END:DAYLIGHT
BEGIN:STANDARD
TZOFFSETFROM:-0400
TZOFFSETTO:-0500
TZNAME:EST
DTSTART:20241103T060000
END:STANDARD
BEGIN:DAYLIGHT
TZOFFSETFROM:-0500
TZOFFSETTO:-0400
TZNAME:EDT
DTSTART:20250309T070000
END:DAYLIGHT
BEGIN:STANDARD
TZOFFSETFROM:-0400
TZOFFSETTO:-0500
TZNAME:EST
DTSTART:20251102T060000
END:STANDARD
END:VTIMEZONE
BEGIN:VEVENT
DTSTART;TZID=America/New_York:20241206T100000
DTEND;TZID=America/New_York:20241206T130000
DTSTAMP:20260425T122306
CREATED:20240710T171540Z
LAST-MODIFIED:20240922T224314Z
UID:2982-1733479200-1733490000@allamandagardenclub.com
SUMMARY:Holiday Gnome Workshop
DESCRIPTION:Join us for a fun holiday workshop!\n \n  \nWe will be making a delightful Holiday gnome to put by your front door\, on your lanai or in your living room. Everything will be supplied\, such as a hat\, mittens and a nose. Feel free to bring any accessories you would like to add to your gnome\, a special hat\, a scarf … Also bring along scissors\, pruning shears\, gloves and a chair. \nThe workshop is $25 for members. Non-members are $30. \nSpace will be limited to 12 people. No-shows or cancellations after November 29th will not be refunded. Contact Carrie if you must cancel. \nPlease bring a beverage and a snack and we can enjoy some socializing afterwards. \n 
URL:https://allamandagardenclub.com/events/christmas-wreath-swag/
LOCATION:Bev Brue’s Garden\, 6420 Floral Court\, North Port\, FL\, 34287
CATEGORIES:Workshop
END:VEVENT
BEGIN:VEVENT
DTSTART;TZID=America/New_York:20241210T120000
DTEND;TZID=America/New_York:20241210T150000
DTSTAMP:20260425T122307
CREATED:20240420T162438Z
LAST-MODIFIED:20241025T133142Z
UID:2876-1733832000-1733842800@allamandagardenclub.com
SUMMARY:Holiday Party
DESCRIPTION:Allamanda Garden Club\nHoliday Luncheon – 2024 \nJoin us at the beautiful Charlotte Harbor Yacht Club for our Annual Holiday Luncheon. \nLet the Gift Swapping begin…with a Deal or Steal Gift Swap. To participate in the fun\, you must bring a wrapped gift preferably in an unmarked gift bag – $20 value. Please bring something you would want to receive yourself: a nice plant\, beautiful garden pot\, baked goods\, Christmas ornament\, garden tools\, artwork\, or something silly or quirky we can fight over. Try to be creative! \nPlease RSVP directly to JoJo so she can let the restaurant know how many will attend. \nFor more information contact JoJo Lucibello\, (203) 506-3740  jlucibello@msn.com\nor Terri Day\, (317) 908-8699 terriday@sbcglobal.net  \nFor a poster of the event\, click here.
URL:https://allamandagardenclub.com/events/holiday-party-2/
LOCATION:Charlotte Harbor Yacht Club\, 4400 Lister St\, \, FL\, Port Charlotte\, FL\, 33952\, United States
CATEGORIES:Monthly meeting
END:VEVENT
END:VCALENDAR