BEGIN:VCALENDAR
VERSION:2.0
PRODID:-//The Allamanda Garden Club of North Port, Florida - ECPv6.15.10//NONSGML v1.0//EN
CALSCALE:GREGORIAN
METHOD:PUBLISH
X-ORIGINAL-URL:https://allamandagardenclub.com
X-WR-CALDESC:Events for The Allamanda Garden Club of North Port, Florida
REFRESH-INTERVAL;VALUE=DURATION:PT1H
X-Robots-Tag:noindex
X-PUBLISHED-TTL:PT1H
BEGIN:VTIMEZONE
TZID:America/New_York
BEGIN:DAYLIGHT
TZOFFSETFROM:-0500
TZOFFSETTO:-0400
TZNAME:EDT
DTSTART:20240310T070000
END:DAYLIGHT
BEGIN:STANDARD
TZOFFSETFROM:-0400
TZOFFSETTO:-0500
TZNAME:EST
DTSTART:20241103T060000
END:STANDARD
BEGIN:DAYLIGHT
TZOFFSETFROM:-0500
TZOFFSETTO:-0400
TZNAME:EDT
DTSTART:20250309T070000
END:DAYLIGHT
BEGIN:STANDARD
TZOFFSETFROM:-0400
TZOFFSETTO:-0500
TZNAME:EST
DTSTART:20251102T060000
END:STANDARD
BEGIN:DAYLIGHT
TZOFFSETFROM:-0500
TZOFFSETTO:-0400
TZNAME:EDT
DTSTART:20260308T070000
END:DAYLIGHT
BEGIN:STANDARD
TZOFFSETFROM:-0400
TZOFFSETTO:-0500
TZNAME:EST
DTSTART:20261101T060000
END:STANDARD
END:VTIMEZONE
BEGIN:VEVENT
DTSTART;TZID=America/New_York:20250926T130000
DTEND;TZID=America/New_York:20250926T153000
DTSTAMP:20260424T025120
CREATED:20250422T215321Z
LAST-MODIFIED:20250814T152748Z
UID:3298-1758891600-1758900600@allamandagardenclub.com
SUMMARY:Flowering Trees and Shrubs for Southwest Florida
DESCRIPTION:Sandy Miller\, Charlotte County Master Gardener\, will discuss and display (through photos) numerous examples of small to medium-sized flowering trees and shrubs\, as well as other colorful plants that are well-suited to our growth zones.  The talk will discuss growth habits\, plant care\, suitable/unsuitable planting locations\, as well as pests and diseases.  \n 
URL:https://allamandagardenclub.com/events/member-meeting-6/
LOCATION:Shannon Staub Library\, 4675 Career Lane\, North Port\, FL\, 34289
CATEGORIES:Monthly meeting
END:VEVENT
END:VCALENDAR