BEGIN:VCALENDAR
VERSION:2.0
PRODID:-//The Allamanda Garden Club of North Port, Florida - ECPv6.15.10//NONSGML v1.0//EN
CALSCALE:GREGORIAN
METHOD:PUBLISH
X-WR-CALNAME:The Allamanda Garden Club of North Port, Florida
X-ORIGINAL-URL:https://allamandagardenclub.com
X-WR-CALDESC:Events for The Allamanda Garden Club of North Port, Florida
REFRESH-INTERVAL;VALUE=DURATION:PT1H
X-Robots-Tag:noindex
X-PUBLISHED-TTL:PT1H
BEGIN:VTIMEZONE
TZID:America/New_York
BEGIN:DAYLIGHT
TZOFFSETFROM:-0500
TZOFFSETTO:-0400
TZNAME:EDT
DTSTART:20240310T070000
END:DAYLIGHT
BEGIN:STANDARD
TZOFFSETFROM:-0400
TZOFFSETTO:-0500
TZNAME:EST
DTSTART:20241103T060000
END:STANDARD
BEGIN:DAYLIGHT
TZOFFSETFROM:-0500
TZOFFSETTO:-0400
TZNAME:EDT
DTSTART:20250309T070000
END:DAYLIGHT
BEGIN:STANDARD
TZOFFSETFROM:-0400
TZOFFSETTO:-0500
TZNAME:EST
DTSTART:20251102T060000
END:STANDARD
BEGIN:DAYLIGHT
TZOFFSETFROM:-0500
TZOFFSETTO:-0400
TZNAME:EDT
DTSTART:20260308T070000
END:DAYLIGHT
BEGIN:STANDARD
TZOFFSETFROM:-0400
TZOFFSETTO:-0500
TZNAME:EST
DTSTART:20261101T060000
END:STANDARD
END:VTIMEZONE
BEGIN:VEVENT
DTSTART;TZID=America/New_York:20251107T100000
DTEND;TZID=America/New_York:20251107T130000
DTSTAMP:20260423T232630
CREATED:20250422T220052Z
LAST-MODIFIED:20250814T153440Z
UID:3304-1762509600-1762520400@allamandagardenclub.com
SUMMARY:Fall Floral Arrangement Workshop
DESCRIPTION:When:       Friday\, November 7\, 2025. 10:00 am – 1:00 pm \nWhere:      Carrie Murphy’s Lanai \n                   5205 Rayfield Drive\, North Port\, FL \nContact:    Cell: 941-276-9730 \n                   Email: carrie.murphy222@gmail.com \n  \nJoin us for this great fall workshop! We will be using wonderful themed containers for a lovely Fall-inspired floral arrangement that you can use as your holiday centerpiece all season long. All supplies will be provided. If you have Fall or Thanksgiving decorations or ribbon you would like to use to match your décor\, please bring them. Bring a chair and scissors or pruning shears. \nThe workshop is $35 for members. Non-members are $40. Please sign up as soon as possible\, as space will be limited to 12 people.  Due to the limited attendance\, we will implement a No-show/cancellation policy after October 25th\, and we will not be able to issue refunds. Contact Carrie if you must cancel. \nChecks are preferable and payable to the Allamanda Garden Club and given or sent to Carrie Murphy\, 5205 Rayfield Drive\, North Port\, FL 34291.
URL:https://allamandagardenclub.com/events/fall-floral-arrangement-workshop/
LOCATION:Bev Brue’s Garden\, 6420 Floral Court\, North Port\, FL\, 34287
CATEGORIES:Workshop
END:VEVENT
BEGIN:VEVENT
DTSTART;TZID=America/New_York:20251121T130000
DTEND;TZID=America/New_York:20251121T150000
DTSTAMP:20260423T232630
CREATED:20250422T221135Z
LAST-MODIFIED:20250818T125002Z
UID:3314-1763730000-1763737200@allamandagardenclub.com
SUMMARY:Bonsai Basics
DESCRIPTION:Rick Johnstone and Susan Mathews of Ichiban Bonsai Kai\, the Bonsai Club of Port Charlotte\, will be talking on Bonsai Basics while Rick creates a bonsai from carefully selected nursery stock.  The talk will cover the basics of what makes a bonsai\, popular species\, how to choose\, style\, and cultivation. The demo bonsai will be raffled. Members may bring a bonsai with specific questions. Limit 1 per person.  
URL:https://allamandagardenclub.com/events/member-meeting-8/
LOCATION:Shannon Staub Library\, 4675 Career Lane\, North Port\, FL\, 34289
CATEGORIES:Monthly meeting
END:VEVENT
END:VCALENDAR